Workbook
Name ValidDepts: Ambulatorio!#REF!
Name ValidDepts: Assistencial!#REF!
Name ValidDepts: SADT!#REF!
Name ValidDepts: 'Urgência Emergência'!#REF!
Name ValidDepts: #REF!

Sheet Capa
A3: ORGANIZAÇÃO SOCIAL: | D3: INSTITUTO SANTE
A5: HOSPITAL: | D5: HOSPITAL REGIONAL TEREZINHA GAIO BASSO
B13: SUPERVISÃO E ACOMPANHAMENTO DA EXECUÇÃO DO CONTRATO DE GESTÃO nº 07/2023
A21: AGOSTO
A29: MUNICÍPIO, 15 DE SETEMBRO DE 2025.

Sheet Leitos
A1: Planilha - Atividade Assistencial Hospitalar - Mensal
A3: Hospital: | B3: HOSPITAL REGIONAL TEREZINHA GAIO BASSO
A4: Mês/Ano: | B4: 45870
A6: 1 Leitos
A7: Clinicas | B7: Leito Existente | C7: Leito Desativado | D7: Leito Bloqueado | E7: Leito Extra
A8: =Assistencial!A8 -> 1. Clínica Cirúrgica | B8: 35 | C8: 0 | D8: 0 | E8: 0
A9: =Assistencial!A9 -> 2. Clínica Médica | B9: 34 | C9: 0 | D9: 0 | E9: 0
A10: =Assistencial!A10 -> 3. Oncologia Clínica | B10: 0 | C10: 0 | D10: 0 | E10: 0
A11: =Assistencial!A11 -> 4. Oncologia Cirúrgica | B11: 0 | C11: 0 | D11: 0 | E11: 0
A12: =Assistencial!A12 -> 5. Clínica Gineco/Obstétrica | B12: 7 | C12: 0 | D12: 0 | E12: 0
A13: =Assistencial!A13 -> 6. Clínica Pediátrica | B13: 6 | C13: 0 | D13: 0 | E13: 0
A14: =Assistencial!A14 -> 7. UTI Adulto | B14: 10 | C14: 0 | D14: 0 | E14: 0
A15: Total | B15: =SUM(B8:B14) -> 92 | C15: =SUM(C8:C14) -> 0 | D15: =SUM(D8:D14) -> 0 | E15: =SUM(E8:E14) -> 0
A18: 2. Leitos CNES 6683134
A19: COMPLEMENTAR
A20: UTI ADULTO - TIPO II | C20: 10
A21: ESPEC - CIRURGICO
A22: BUCO MAXILO FACIAL | C22: 1
A23: CIRURGIA GERAL | C23: 17
A24: GINECOLOGIA | C24: 1
A25: NEFROLOGIA / UROLOGIA | C25: 2
A26: NEUROCIRURGIA | C26: 2
A27: OFTALMOLOGIA | C27: 1
A28: ORTOPEDIA / TRAUMATOLOGIA | C28: 10
A29: OTORRINOLARINGOLOGIA | C29: 1
A31: CARDIOLOGIA | C31: 2
A32: CLINICA GERAL | C32: 20
A33: NEFRO / UROLOGIA | C33: 3
A34: NEUROLOGIA | C34: 2
... A36: PNEUMOLOGIA | C36: 5
A37: OBSTETRICO
A38: OBSTETRICIA CIRURGICA | C38: 5
A39: OBSTETRICIA CLINICA | C39: 2
A40: PEDIATRICO
A41: PEDIATRIA CLINICA | C41: 6
A42: TOTAL | C42: =SUM(C19:C41) -> 92
C43: =IF(C42+C15+D15+E15=B15,"ok","rever") -> ok

Sheet Urgência Emergência
A1: Planilha - Atividade Assistencial - Mensal
A3: Hospital: | B3: HOSPITAL REGIONAL TEREZINHA GAIO BASSO
A4: Mês/Ano: | B4: =Leitos!B4 -> 45870
A6: 1. ATENDIMENTO DE URGÊNCIA E EMERGÊNCIA
F7: Quantidade
A8: 1. Atendimento de Urgência e Emergência em Atenção Especializada | F8: 2322
A9: 2. Cirurgias de Urgência e Emergência | F9: ='Atividade Cirúrgica'!C15 -> 390
A10: Total | F10: =SUM(F8:F9) -> 2712
A11: *CG, PAG 39, 1.5.3. A EXECUTORA deverá enviar mensalmente até o 15º dia subsequente ao mês de produção, as seguintes informações: o quantitativo de atendimentos de Urgência/Emergência, escala de serviço médico e de enfermagem da EMG, escala de sobreaviso das especialidades, Relatório do Sistema de Gestão Hospitalar com o número de atendimentos conforme a Classificação de Risco.

Sheet Assistencial
A1: Planilha - Atividade Assistencial Hospitalar - Mensal
A3: Hospital: | B3: HOSPITAL REGIONAL TEREZINHA GAIO BASSO | G3: CNES: | H3: 6683134
A4: Mês/Ano: | B4: =Leitos!B4 -> 45870
A6: 1. ASSISTÊNCIA HOSPITALAR - INTERNAÇÃO
A7: Clinicas | B7: Altas | C7: Transferências Externas | D7: Óbitos < 24hs | E7: Óbitos >= 24hs | F7: Saídas Hospitalares | G7: Transferências Internas (UTI) | H7: Leitos Operacionais Dia | I7: Pacientes - Dia
A8: 1. Clínica Cirúrgica | B8: =228-56-6-1-5 -> 160 | C8: 6 | D8: 1 | E8: 5 | F8: =SUM(B8:E8) -> 172 | G8: - | H8: 806 | I8: 725
A9: 2. Clínica Médica | B9: =330-30-28-9-21 -> 242 | C9: 28 | D9: 9 | E9: 21 | F9: =SUM(B9:E9) -> 300 | G9: - | H9: =775+31 -> 806 | I9: =716+234 -> 950
A10: 3. Oncologia Clínica | B10: =30-1-2 -> 27 | C10: 0 | D10: 1 | E10: 2 | F10: =SUM(B10:E10) -> 30 | G10: - | H10: 260 | I10: 207
A11: 4. Oncologia Cirúrgica | B11: =56-1 -> 55 | C11: 0 | D11: 0 | E11: 1 | F11: =SUM(B11:E11) -> 56 | G11: - | H11: 205 | I11: 181
A12: 5. Clínica Gineco/Obstétrica | B12: =82-3 -> 79 | C12: 3 | D12: 0 | E12: 0 | F12: =SUM(B12:E12) -> 82 | G12: - | H12: =465-186 -> 279 | I12: =359-193 -> 166
A13: 6. Clínica Pediátrica | B13: =55-9 -> 46 | C13: 9 | D13: 0 | E13: 0 | F13: =SUM(B13:E13) -> 55 | G13: - | H13: 186 | I13: 193
A14: 7. UTI Adulto | B14: - | C14: 2 | D14: 2 | E14: 10 | F14: =SUM(B14:E14) -> 14 | G14: 42 | H14: 310 | I14: 286
A15: Total | B15: =SUM(B8:B13) -> 609 | C15: =SUM(C8:C14) -> 48 | D15: =SUM(D8:D14) -> 13 | E15: =SUM(E8:E14) -> 39 | F15: =SUM(F8:F14) -> 709 | G15: =SUM(G14) -> 42 | H15: =SUM(H8:H14) -> 2852 | I15: =SUM(I8:I14) -> 2708
A16: C.G., PAG. 39, 1.6.2. Para fins de aferição de meta serão consideradas as Saídas Hospitalares ocorridas entre o dia 1º a 30/31 de cada mês, tendo como parâmetro o dia de saída do paciente do Hospital.
A17: 1.1 Saídas das UTIs por Clínica (Transf. Externas + Óbitos) | D17: 1.2 Transf. Internas das UTIs por Clínica
A18: Clinicas | B18: N° Saídas | D18: Clinicas | E18: N° Transferências
A19: =A8 -> 1. Clínica Cirúrgica | B19: 2 | D19: =A19 -> 1. Clínica Cirúrgica | E19: 13
A20: =A9 -> 2. Clínica Médica | B20: 12 | D20: =A20 -> 2. Clínica Médica | E20: 21
A21: =A10 -> 3. Oncologia Clínica | B21: 0 | D21: =A21 -> 3. Oncologia Clínica | E21: 1
A22: =A11 -> 4. Oncologia Cirúrgica | B22: 0 | D22: =A22 -> 4. Oncologia Cirúrgica | E22: 6
A23: =A12 -> 5. Clínica Gineco/Obstétrica | B23: 0 | D23: =A23 -> 5. Clínica Gineco/Obstétrica | E23: 1
A24: =A13 -> 6. Clínica Pediátrica | B24: 0 | D24: =A24 -> 6. Clínica Pediátrica | E24: 0
A25: 7. Outra Unidade Hospitalar | B25: 0 | D25: Total | E25: =SUM(E19:E24) -> 42
A26: Total | B26: =SUM(B19:B25) -> 14 | E26: =IF(E25=G14,"OK","REVER") -> OK
B27: =IF(B26=F14,"OK","REVER") -> OK
A29: 1.3 Clínicas | B29: Número de Saídas Hospitalares | D29: Bases para o cálculo do número de saídas
B30: Média Mensal | C30: % Total | D30: Leitos Operacionais | E30: Permanência Média | F30: Taxa de Ocupação
A31: =A8 -> 1. Clínica Cirúrgica | B31: =F8 -> 172 | C31: =B31/$B$38 -> 0.2425952 | D31: =H8 -> 806 | E31: =I8/F8 -> 4.2151163 | F31: =I8/H8 -> 0.89950372
A32: =A9 -> 2. Clínica Médica | B32: =F9 -> 300 | C32: =B32/$B$38 -> 0.42313117 | D32: =H9 -> 806 | E32: =I9/F9 -> 3.1666667 | F32: =I9/H9 -> 1.17866
A33: =A10 -> 3. Oncologia Clínica | B33: =F10 -> 30 | C33: =B33/$B$38 -> 0.042313117 | D33: =H10 -> 260 | E33: =I10/F10 -> 6.9 | F33: =I10/H10 -> 0.79615385
A34: =A11 -> 4. Oncologia Cirúrgica | B34: =F11 -> 56 | C34: =B34/$B$38 -> 0.078984485 | D34: =H11 -> 205 | E34: =I11/F11 -> 3.2321429 | F34: =I11/H11 -> 0.88292683
A35: =A12 -> 5. Clínica Gineco/Obstétrica | B35: =F12 -> 82 | C35: =B35/$B$38 -> 0.11565585 | D35: =H12 -> 279 | E35: =I12/F12 -> 2.0243902 | F35: =I12/H12 -> 0.59498208
A36: =A13 -> 6. Clínica Pediátrica | B36: =F13 -> 55 | C36: =B36/$B$38 -> 0.077574048 | D36: =H13 -> 186 | E36: =I13/F13 -> 3.5090909 | F36: =I13/H13 -> 1.0376344
A37: =A14 -> 7. UTI Adulto | B37: =F14 -> 14 | C37: =B37/$B$38 -> 0.019746121 | D37: =H14 -> 310 | E37: =I14/(G14+F14) -> 5.1071429 | F37: =I14/H14 -> 0.92258065
A38: Total | B38: =SUM(B31:B37) -> 709 | C38: =B38/$B$38 -> 1 | D38: =SUM(D31:D37) -> 2852 | E38: =AVERAGE(E31:E37) -> 4.0220785 | F38: =I15/H15 -> 0.94950912

Sheet Ambulatorio
A1: Planilha - Atividade Assistencial Ambulatorial - Mensal
A3: Hospital: | B3: HOSPITAL REGIONAL TEREZINHA GAIO BASSO
A4: Mês/Ano: | B4: =Leitos!B4 -> 45870
A6: 1. ATENDIMENTO AMBULATORIAL
A7: 1.1 Consultas Médicas
A8: Especialidade | B8: Primeiras Consultas (TCGA, Agenda Interna e Regulação**) | C8: Interconsulta | D8: Consulta Subsequente | E8: Total
A9: Anestesiologia | B9: 23 | C9: 0 | D9: 61 | E9: =SUM(B9:D9) -> 84
A10: Cardiologia | B10: 115 | C10: 0 | D10: =89+4+2+2 -> 97 | E10: =SUM(B10:D10) -> 212
A11: Cirurgia Geral | B11: 71 | C11: 0 | D11: =56+65+3+1 -> 125 | E11: =SUM(B11:D11) -> 196
A12: Cirurgia Vascular | B12: 71 | C12: 0 | D12: =55+34 -> 89 | E12: =SUM(B12:D12) -> 160
A13: Clínica Médica Geral | B13: 0 | C13: 0 | D13: 3 | E13: =SUM(B13:D13) -> 3
A14: Gastroenterologia | B14: 13 | C14: 0 | D14: 18 | E14: =SUM(B14:D14) -> 31
A15: Ginecologia/obstetrícia | B15: 21 | C15: 0 | D15: =8+2+3 -> 13 | E15: =SUM(B15:D15) -> 34
A16: Hepatologia | B16: 14 | C16: 0 | D16: 13 | E16: =SUM(B16:D16) -> 27
A17: Infectologia | B17: 4 | C17: 0 | D17: 28 | E17: =SUM(B17:D17) -> 32
A18: Mastologia | B18: 0 | C18: 0 | D18: 7 | E18: =SUM(B18:D18) -> 7
A19: Neurocirurgia | B19: 0 | C19: 0 | D19: 21 | E19: =SUM(B19:D19) -> 21
A20: Neurologia | B20: 6 | C20: 0 | D20: 8 | E20: =SUM(B20:D20) -> 14
A21: Oftalmologia | B21: 233 | C21: 0 | D21: =89+17 -> 106 | E21: =SUM(B21:D21) -> 339
A22: Oncologia Clínica | B22: =9+52 -> 61 | C22: 0 | D22: =1+385+376 -> 762 | E22: =SUM(B22:D22) -> 823
A23: Oncologia Cirúrgica | B23: =35+1 -> 36 | C23: 0 | D23: =125+60 -> 185 | E23: =SUM(B23:D23) -> 221
A24: Ortopedia/Traumatologia | B24: 136 | C24: 0 | D24: =92+198 -> 290 | E24: =SUM(B24:D24) -> 426
A25: Otorrinolaringologia Adulto | B25: 16 | C25: 0 | D25: =29+16 -> 45 | E25: =SUM(B25:D25) -> 61
A26: Otorrinolaringologia Pediátrica | B26: 11 | C26: 0 | D26: 7 | E26: =SUM(B26:D26) -> 18
A27: Pediatria | B27: 3 | C27: 0 | D27: =19+9 -> 28 | E27: =SUM(B27:D27) -> 31
A28: Pneumologia | B28: 8 | C28: 0 | D28: 14 | E28: =SUM(B28:D28) -> 22
A29: Proctologia | B29: 10 | C29: 0 | D29: 7 | E29: =SUM(B29:D29) -> 17
B30: 29 | C30: 0 | D30: 22 | E30: =SUM(B30:D30) -> 51
A31: Total | B31: =SUM(B9:B30) -> 881 | C31: =SUM(C9:C30) -> 0 | D31: =SUM(D9:D30) -> 1949 | E31: =SUM(E9:E30) -> 2830
A33: 1.2 Procedimentos Ambulatoriais
A34: Especialidade | B34: Realizado Regulação** | C34: Agenda Interna | D34: Total
A35: Procedimentos Oftalmológicos (fotocoagulação a laser, outros...) | B35: 12 | C35: 7 | D35: =SUM(B35:C35) -> 19
A36: Procedimentos de Quimioterapia (nº de sessões) | B36: - | C36: =289+209 -> 498 | D36: =SUM(B36:C36) -> 498
A37: Total | B37: =SUM(B35:B36) -> 12 | C37: =SUM(C35:C36) -> 505 | D37: =SUM(D35:D36) -> 517
A39: 1.3 Consultas não médicas
A40: Especialidade | B40: =B34 -> Realizado Regulação** | C40: =C34 -> Agenda Interna | D40: Total
A41: Bucomaxilofacial | B41: 1 | C41: 8 | D41: =SUM(B41:C41) -> 9
A42: Fonoaudiologia | B42: - | C42: 163 | D42: =SUM(B42:C42) -> 163
A43: Nutrição Clínica | B43: - | C43: 13 | D43: =SUM(B43:C43) -> 13
A44: Psicologia | B44: - | C44: 119 | D44: =SUM(B44:C44) -> 119
...

Sheet SADT
A1: Planilha - Atividade Assistencial - Mensal
A3: Hospital: | B3: HOSPITAL REGIONAL TEREZINHA GAIO BASSO
A4: Mês/Ano: | B4: =Leitos!B4 -> 45870
A6: 1.SERVIÇOS DE APOIO DIAGNÓSTICO E TERAPÊUTICO - EXTERNO REALIZADO
B7: Realizado Regulação** | C7: Agenda Interna Hospital + TCGA | D7: Total / Meta Mês
A8: Colonoscopia | B8: 89 | C8: =35+1 -> 36 | D8: =SUM(B8:C8) -> 125
A9: Endoscopia | B9: 211 | C9: =10+5 -> 15 | D9: =SUM(B9:C9) -> 226
A10: Exames de Anatomia Patológica | B10: 0 | C10: =13+458+614 -> 1085 | D10: =SUM(B10:C10) -> 1085
A11: Mamografia | B11: 219 | C11: 18 | D11: =SUM(B11:C11) -> 237
A12: Radiologia | B12: 784 | C12: =324+44+5 -> 373 | D12: =SUM(B12:C12) -> 1157
A13: Retinografia Colorida Binocular | B13: 6 | C13: 0 | D13: =SUM(B13:C13) -> 6
A14: Tomografia/Angiotomografia | B14: 152 | C14: 326 | D14: =SUM(B14:C14) -> 478
A15: Ultrassonografia | B15: 407 | C15: 146 | D15: =SUM(B15:C15) -> 553
A16: Total | B16: =SUM(B8:B15) -> 1868 | C16: =SUM(C8:C15) -> 1999 | D16: =SUM(D8:D15) -> 3867
A17: 1.8.4. Para fins de aferição de meta serão considerados exames externos os atendimentos realizados em caráter eletivo, ocorridos entre o dia 1º a 30/31 de cada mês, tendo como parâmetro o dia em que o paciente realizou o exame no Hospital. Esta meta será acompanhada através do Sistema de Informações Ambulatoriais.
A19: 2. SADT Externo - Regulação
A20: Especialidade | C20: Nº de exames disponibilizadas para Regulação | D20: Nº de exames agendadas com os pacientes oriundos da Regulação | E20: Nº de exames Realizadas com pacientes oriundos da Regulação** | F20: Nº de Pacientes Faltantes oriundos do agendamento da Regulação
A22: =A8 -> Colonoscopia | C22: 100 | D22: 100 | E22: 89 | F22: =D22-E22 -> 11
A23: =A9 -> Endoscopia | C23: 250 | D23: 240 | E23: 211 | F23: =D23-E23 -> 29
A24: =A10 -> Exames de Anatomia Patológica | C24: 0 | D24: 0 | E24: 0 | F24: =D24-E24 -> 0
A25: =A11 -> Mamografia | C25: 250 | D25: 248 | E25: 219 | F25: =D25-E25 -> 29
A26: =A12 -> Radiologia | C26: 1000 | D26: 908 | E26: 784 | F26: =D26-E26 -> 124
A27: =A13 -> Retinografia Colorida Binocular | C27: 10 | D27: 6 | E27: 6 | F27: =D27-E27 -> 0
A28: =A14 -> Tomografia/Angiotomografia | C28: 400 | D28: 161 | E28: 152 | F28: =D28-E28 -> 9
A29: =A15 -> Ultrassonografia | C29: 600 | D29: 484 | E29: 407 | F29: =D29-E29 -> 77
C30: =SUM(C22:C29) -> 2610 | D30: =SUM(D22:D29) -> 2147 | E30: =SUM(E22:E29) -> 1868 | F30: =SUM(F22:F29) -> 279
A32: 3. Exames Internos - Internação
D33: Nº Exames
A34: Eletrocardiograma | D34: 369
A35: Exames Anatomopatológicos | D35: 212
A36: Exames de Colonoscopia | D36: 6
A37: Exames de Endoscopia | D37: 12
A38: Exames de Mamografia | D38: 0
A39: Exames de Radiologia | D39: 406
A40: Exames de Tomografias | D40: 163
A41: Exames de Ultrassom | D41: 138
A42: Exames Laboratoriais | D42: 6396
A43: Total | D43: =SUM(D34:D42) -> 7702
A45: 4. Exames Internos - Urgência e Emergência
D46: Nº Exames
...

Sheet Atividade Cirúrgica
A1: Planilha - Atividade Assistencial Hospitalar - Mensais
A3: Hospital: | B3: HOSPITAL REGIONAL TEREZINHA GAIO BASSO
A4: Mês/Ano: | B4: =Leitos!B4 -> 45870
A6: 1. Cirurgias
C7: Quantidade
A8: a) Cirurgias de Média Complexidade | C8: =C158 -> 466
A9: b) Cirurgias de Alta Complexidade | C9: =C201 -> 67
A10: Nº Total de Cirurgias | C10: =SUM(C8:C9) -> 533
A12: 2. Atividade Cirúrgica
C13: Quantidade
A14: Eletiva* | C14: 143
A15: Urgência | C15: 390
A16: Nº Total de Cirurgias | C16: =SUM(C14:C15) -> 533 | D16: =IF(C16=C10,"ok","rever") -> ok
A17: *CG, PAG. 33, 21.1.1. O Hospital deverá destinar, no mínimo 15% (quinze por cento), do volume total de cirurgias realizadas no mês, aos pacientes eletivos, em lista de espera, encaminhados pela Central de Regulação de Internações Hospitalares (drive cirúrgico).
A19: 2.2. Indicadores da Atividade Cirúrgica
C20: Quantidade
A21: Taxa de Cirurgias Eletivas | C21: =C14/C16 -> 0.26829268
A22: Taxa de Cirurgias de Urgência | C22: =C15/C16 -> 0.73170732
A24: 3. Salas Cirúrgicas
C25: Quantidade
A26: N° Salas Cirúrgicas Operacionais/Dia | C26: 4
A29: 4. Cirurgias de Média Complexidade
B30: Nome do procedimento realizado | C30: Quantidade
A31: 02.01.01.020-8 - BIOPSIA DE FIGADO EM CUNHA / FRAGMENTO-Média Complexidade | C31: 1
A32: 02.04.05.002-2 - COLANGIOGRAFIA PER-OPERATORIA-Média Complexidade | C32: 1
A33: 02.09.01.006-1 - VIDEOLAPAROSCOPIA-Média Complexidade | C33: 1
A34: 02.09.02.001-6 - CISTOSCOPIA E/OU URETEROSCOPIA E/OU URETROSCOPIA-Média Complexidade | C34: 10
A35: 02.09.04.001-7 - BRONCOSCOPIA (BRONCOFIBROSCOPIA)-Média Complexidade | C35: 3
A36: 02.09.04.001-7 - BRONCOSCOPIA (BRONCOFIBROSCOPIA)-Média Complexidade | C36: 1
A37: 02.09.04.001-7 - BRONCOSCOPIA (BRONCOFIBROSCOPIA)-Média Complexidade | C37: 1
A38: 03.10.01.003-9 - PARTO NORMAL-Média Complexidade | C38: 38
A39: 04.01.01.003-1 - DRENAGEM DE ABSCESSO | C39: 2
A40: 04.01.02.005-3 - EXCISÃO E SUTURA DE LESAO NA PELE C/ PLÁSTICA EM Z OU ROTAÇÃO DE RETALHO-Média Complexidade | C40: 11
A41: 04.01.02.010-0 - EXTIRPAÇÃOE SUPRESSÃO DE LESÃO DE PELE E DE TECIDO CELULAR SUBCUTÂNEO-Média Complexidade | C41: 1
A42: 04.03.01.001-2 - CRANIOPLASTIA-Média Complexidade | C42: 1
... A157: 07.02.04.011-8 - CATETER DE ACESSO VENOSO CENTRAL POR INSERÇÃO PERIFÉRICA (PICC)- Média Complexidade | C157: 2
A158: Nº Total de Cirurgias de Média Complexidade | C158: =SUM(C31:C157) -> 466
A160: 5. Cirurgias de Alta Complexidade
A161: Código | B161: Nome do procedimento realizado | C161: Quantidade
A162: 04.16.02.002-0 - LINFADENECTOMIA PELVICA EM ONCOLOGIA-Alta Complexidade | C162: 1
...

Sheet Qualidade
A1: Planilha - Indicadores de Qualidade Mensais
A3: Hospital: | B3: =Capa!D5 -> HOSPITAL REGIONAL TEREZINHA GAIO BASSO
A4: Mês/Ano: | B4: =Leitos!B4 -> 45870
A6: 1. Apresentação de Autorização de Internação Hospitalar (AIH) | C6: Quantidade
A7: Nº de AIH’s apresentadas à GMAPS | C7: 704
A8: Nº de Saídas Hospitalares informadas pelo Hospital no mês | C8: =B29 -> 709
A10: 2. Controle de Infecção Hospitalar
B11: N° Infecção Geral Hospitalar | D11: Taxa Infecção geral hospitalar
B12: 13 | D12: =B12/B29 -> 0.018335684
B14: 2.1 Controle de Infecção Hospitalar - UTI Adulto
B15: N° Infecções Hospitalares | C15: N° Infecções Corrente Sang. em Pac. com CVC | D15: N° Pac./Dia com CVC | E15: Nº de Pneumonias em Pacientes com Vent. Mecânica | F15: Nº de Pac./Dia com Ventilação Mecânica
B16: 8 | C16: 1 | D16: 219 | E16: 5 | F16: 124
B18: 2.3 Controle de Infecção Hospitalar - UTI Adulto
B19: DIH UTI | C19: DIIH CVC UTI | D19: Taxa VM UTI
B20: =B16/Assistencial!I14*1000 -> 27.972028 | C20: =C16/D16*1000 -> 4.56621 | D20: =F16/Assistencial!I14 -> 0.43356643
A21: CG, PAG.46, 2.7.3. O cumprimento da meta está relacionado ao envio do relatório mensal, elaborado pelo Serviço de Controle de Infecção Hospitalar da unidade, que contenha o valor dos indicadores mensais, a análise dos resultados com o comparativo de referência (utilizado pelo Serviço de Controle de Infecção Hospitalar do hospital) e o plano de ação com as medidas de correção e controle, quando se fizerem necessárias. O Relatório deverá estar assinado pelo enfermeiro e médico infectologista do serviço.
A24: 3. Mortalidade | D24: 3.3 Mortalidade Operatória por ASA
B25: Quantidade | E25: Nº de Pacientes Operados | F25: Nº de Óbitos até 7 Dias | G25: Taxa de Mortalidade Operatória | H25: Nº de Cirurgias de Urgência | I25: Taxa de Cirurgias de Urgência por ASA
A26: Nº de óbitos ≥ 24hs de internação no mês (N° Óbitos Institucionais) | B26: 27 | D26: Avaliação Anestésica ASA 1 | E26: 75 | F26: 0 | G26: =F26/E26 -> 0 | H26: 0 | I26: =H26/H32 -> #DIV/0!
A27: N° Óbitos até 7 Dias após Proc. Cirúrgico | B27: 3 | D27: Avaliação Anestésica ASA 2 | E27: 265 | F27: 0 | G27: =F27/E27 -> 0 | H27: 0 | I27: =H27/H32 -> #DIV/0!
A28: N° Total Pacientes Operados | B28: =E32 -> 407 | D28: Avaliação Anestésica ASA 3 | E28: 63 | F28: 2 | G28: =F28/E28 -> 0.031746032 | H28: 0 | I28: =H28/H32 -> #DIV/0!
A29: Nº Total de Saídas Hospitalares | B29: =Assistencial!F15 -> 709 | D29: Avaliação Anestésica ASA 4 | E29: 3 | F29: 0 | G29: =F29/E29 -> 0 | H29: 0 | I29: =H29/H32 -> #DIV/0!
D30: Avaliação Anestésica ASA 5 | E30: 0 | F30: 0 | G30: =F30/E30 -> #DIV/0! | H30: 0 | I30: =H30/H32 -> #DIV/0!
A31: 3.1 Indicadores Mortalidade Operatória (TMO) | D31: Avaliação Anestésica ASA 6 | E31: 1 | F31: 1 | G31: - | H31: - | I31: -
B32: % | D32: Total | E32: =SUM(E26:E31) -> 407 | F32: =SUM(F26:F31) -> 3 | G32: =SUM(G26:G30) -> #DIV/0! | H32: =SUM(H26:H30) -> 0 | I32: =SUM(I26:I30) -> #DIV/0!
A33: Taxa de Mortalidade Operatória | B33: =B27/B28 -> 0.0073710074 | D33: C.G., PAG. 47, 2.8.6. O cumprimento da meta está relacionado ao envio do relatório / ata mensal, elaborado pela Comissão de Óbito do Hospital, com a análise dos resultados da TMO e TM, com o comparativo de referência, devidamente assinado pelos seus membros.
A35: 3.2 Indicadores Mortalidade Institucional (TM)
B36: %
A37: Taxa de Mortalidade Institucional | B37: =(B26/B29) -> 0.038081805
A39: 3.4 Mortalidade Intra-Hospitalar Neonatal
B40: Nascidos Vivos | C40: Apgar 1 min >= 7 | D40: Apgar 5 min >= 7 | E40: Nascidos Mortos | F40: Óbitos 0-6 dias | G40: Óbitos 7-28 dias | H40: Óbitos 29 dias e +
A41: < 500g | B41: 1 | C41: 0 | D41: 1 | E41: 0 | F41: 0 | G41: 0 | H41: 0
A42: 500 - 749g | B42: 1 | C42: 0 | D42: 0 | E42: 0 | F42: 1 | G42: 0 | H42: 0
A43: 750 - 999g | B43: 0 | C43: 0 | D43: 0 | E43: 0 | F43: 0 | G43: 0 | H43: 0
A44: 1000 - 1249g | B44: 0 | C44: 0 | D44: 0 | E44: 0 | F44: 0 | G44: 0 | H44: 0
A45: 1250 - 1499g | B45: 0 | C45: 0 | D45: 0 | E45: 0 | F45: 0 | G45: 0 | H45: 0
A46: 1500 - 1749g | B46: 0 | C46: 0 | D46: 0 | E46: 0 | F46: 0 | G46: 0 | H46: 0
A47: 1750 - 1999g | B47: 0 | C47: 0 | D47: 0 | E47: 0 | F47: 0 | G47: 0 | H47: 0
A48: 2000-2249g | B48: 1 | C48: 0 | D48: 1 | E48: 0 | F48: 0 | G48: 0 | H48: 0
A49: 2250 - 2499g | B49: 3 | C49: 0 | D49: 3 | E49: 0 | F49: 0 | G49: 0 | H49: 0
...

Sheet Qualidade PSU
A1: Planilha - Indicadores de Qualidade Mensais - Pesquisa de Satisfação
A3: Hospital: | B3: =Capa!D5 -> HOSPITAL REGIONAL TEREZINHA GAIO BASSO
A4: Mês/Ano: | B4: =Leitos!B4 -> 45870
A6: 1. Pesquisa de Satisfação
A7: SETOR | C7: Nº total de pacientes atendidos no grupo | E7: Nº de pesquisas realizadas no grupo
A8: Pacientes ou acompanhantes em atendimento no serviço de urgência e emergência | C8: 2322 | E8: 153
A9: Pacientes ou acompanhantes de pacientes internados | C9: 709 | E9: 199
A10: Pacientes ou acompanhantes de pacientes em atendimento ambulatorial ou SADT Externo | C10: 7518 | E10: 232
A11: Pacientes ou acompanhantes de pacientes após alta hospitalar | C11: 609 | E11: 62
A12: Total | C12: =SUM(C8:D11) -> 11158 | E12: =SUM(E8:F11) -> 646
A14: 2. Nível de Satisfação Geral do Hospital
A15: Setores | B15: Total de atendimentos | C15: Encantado | D15: Satisfeito | E15: Insatisfeito | F15: Decepcionado | G15: Quantitativo | H15: % de Participação | I15: SATISFATORIO | J15: INSATISFATÓRIO
A16: Atendimento de Urgência e Emergência | B16: =C8 -> 2322 | C16: 210 | D16: 1226 | E16: 71 | F16: 23 | G16: =SUM(C16:F16) -> 1530 | H16: =(E8/C8)*100 -> 6.5891473 | I16: =(C16+D16)/G16 -> 0.93856209 | J16: =(E16+F16)/G16 -> 0.061437908
A17: Setores de Internação - Paciente Internados | B17: =C9 -> 709 | C17: 397 | D17: 1350 | E17: 44 | F17: 0 | G17: =SUM(C17:F17) -> 1791 | H17: =(E9/C9)*100 -> 28.067701 | I17: =(C17+D17)/G17 -> 0.97543272 | J17: =(E17+F17)/G17 -> 0.024567281
A18: Atendimento Ambulatorial ou SADT Externo | B18: =C10 -> 7518 | C18: 264 | D18: 1787 | E18: 33 | F18: 4 | G18: =SUM(C18:F18) -> 2088 | H18: =(E10/C10)*100 -> 3.0859271 | I18: =(C18+D18)/G18 -> 0.98227969 | J18: =(E18+F18)/G18 -> 0.017720307
A19: Pacientes - Após Alta Hospitalar | B19: =C11 -> 609 | C19: 113 | D19: 437 | E19: 13 | F19: 0 | G19: =SUM(C19:F19) -> 563 | H19: =(E11/C11)*100 -> 10.180624 | I19: =(C19+D19)/G19 -> 0.97690941 | J19: =(E19+F19)/G19 -> 0.023090586
A20: TOTAL - GERAL | B20: =SUM(B16+B18+B17+B19) -> 11158 | C20: =SUM(C16+C18+C17+C19) -> 984 | D20: =SUM(D16+D18+D17+D19) -> 4800 | E20: =SUM(E16+E18+E17+E19) -> 161 | F20: =SUM(F16+F18+F17+F19) -> 27 | G20: =SUM(G16:G19) -> 5972 | H20: =SUM(H16:H19) -> 47.923399 | I20: =(C20+D20)/G20 -> 0.96851976 | J20: =(E20+F20)/G20 -> 0.031480241
A21: CG, PAG. 45, 2.6.5. A meta para o nível de satisfação geral do Hospital (encantado e satisfeito) deverá ser igual ou maior que 90% no trimestre. A EXECUTORA deverá encaminhar a pesquisa detalhada apresentando o nível de satisfação por área avaliada e o quantitativo de Ouvidoras mensais recebidas e estratificadas pelo tipo de manifestação.

Sheet Recursos Humanos
A1: Planilha - Indicadores de Recursos Humanos Mensais
A3: Hospital: | B3: =Capa!D5 -> HOSPITAL REGIONAL TEREZINHA GAIO BASSO
A4: Mês/Ano: | B4: =Leitos!B4 -> 45870
A6: Nº de Funcionários | D6: Nº de Funcionários Administrativos | I6: Nº de Funcionários Técnicos
B7: Quantidade | D7: Especficação Cargo | I7: Especficação Cargo
A8: Nº Total Funcionários (Todos os Vínculos) | B8: =B19+B29+B38+K26+B52+F73 -> 534 | E8: Estatutários | F8: Celetista | G8: Cedido | J8: Estatutários | K8: Celetista | L8: Cedido
B9: =IF(B19+B29+B38+B48+B52+E73+F73+G73+J26+K26+L26=B8,"OK","REVER") -> OK | D9: Analista de Recursos Humanos | F9: 1 | I9: Assistente Social | K9: 2
D10: Analista Departamento Pessoal | F10: 1 | I10: Auxiliar Farmácia | K10: 16
A11: Rotatividade de Funcionários | D11: Analista Financeiro | F11: 1 | I11: Biólogo | K11: 0
B12: Quantidade | D12: Assessora de Imprensa | F12: 1 | I12: Farmacêutico | K12: 6
A13: N° Admissões | B13: 13 | D13: Assistente Administrativo | F13: 1 | I13: Farmacêutico Bioquímica | K13: 6
A14: N° Demissões | B14: 18 | D14: Assistente Administrativo- Contabilidade | F14: 0 | I14: Farmacêutico- Ocologia | K14: 2
A15: N° Total de Funcionários (CLT) | B15: =B22+B31+B40+F73+K26 -> 430 | D15: Assistente administrativo -Manutenção | F15: 1 | I15: Farmacêutica Clinica | K15: 1
D16: Assistente Administrativo-Agendamento | F16: 0 | I16: Fisioterapeuta | K16: 7
A17: Médicos | D17: Assistente Administrativo-Almoxarifado | F17: 1 | I17: Fonoaudióloga | K17: 1
B18: Quantidade | D18: Assistente Administrativo-Faturamento | F18: 3 | I18: Imagenologia (Técnico em Radiologia) | K18: 12
A19: N° Total de Médicos | B19: =SUM(B20:B23) -> 97 | D19: Assistente Administrativo-Recepção | F19: 1 | I19: Nutricionista | K19: 1
A20: PJ | B20: 97 | D20: Assistente de Compras | F20: 1 | I20: Nutricionista Clinica | K20: 1
A21: Estatutários | B21: 0 | D21: Assistente de Diretoria | F21: 1 | I21: Psicóloga Hospitalar | K21: 2
A22: Celetistas | B22: 0 | D22: Auxiliar Administrativo - NIR | F22: 4 | I22: Psicologo | K22: 0
A23: Cedidos | B23: 0 | D23: Auxiliar Administrativo- FIN-FARM-IMAG. | F23: 2 | I23: CASO TENHA OUTROS INCLUIR ABAIXO:
D24: Auxiliar de Cozinha | F24: 7 | I24: BIOMÉDICO | K24: 1
D25: Auxiliar de Lavanderia | F25: 10
D26: Auxiliar de Limpeza | F26: 27 | I26: TOTAL | J26: =SUM(J9:J25) -> 0 | K26: =SUM(K9:K25) -> 58 | L26: =SUM(L9:L25) -> 0
A27: Nº de Enfermeiros | D27: Auxiliar de Limpeza-Jardinagem | F27: 1
B28: Quantidade | D28: Auxiliar de manutenção | F28: 1
A29: N° Total Enfermeiros | B29: =SUM(B30:B32) -> 43 | D29: Camareira | F29: 1
B30: 0 | D30: Comprador | F30: 1
A31: Celetistas | B31: 43 | D31: Coordenador SCIH | F31: 0
A32: Cedidos | B32: 0 | D32: Copeira Hospitalar | F32: 9
D33: Costureira | F33: 1
D34: Cozinheira Hospitalar | F34: 6
D35: Diretor Adjunto | F35: 1
A36: Nº de Profissionais Técnico de Enfermagem | D36: Diretor Apoio | F36: 0
B37: Quantidade | D37: Diretor Assistencial | F37: 1
A38: Nº Total Técnicos de Enfermagem | B38: =SUM(B39:B41) -> 179 | D38: Diretor Geral | F38: 1
A39: Estatutários | B39: 0 | D39: Eletromecânico | F39: 2
A40: Celetistas | B40: 179 | D40: Engenheiro Civil | F40: 1
A41: Cedidos | B41: 0 | D41: Gerente de Recursos Humanos | F41: 1
D42: Gerente de Serviços Ambulatoriais | F42: 1
...

Sheet Fármacia
A1: Planilha - Indicadores de Farmácia Mensais
A3: Hospital: | B3: =Capa!D5 -> HOSPITAL REGIONAL TEREZINHA GAIO BASSO
A4: Mês/Ano: | B4: =Leitos!B4 -> 45870
D5: *Essa listagem deverá ser a curva A da farmácia do HRTGB
A6: Recurso financeiro na aquisição de medicamentos | D6: Aquisição de medicamentos da Curva A
B7: Valor R$ | D7: Medicamento/Apresentação | E7: Nome Comercial | F7: Laboratório Fabricante | G7: Custo Unitário
A8: Recurso financeiro gasto com medicamentos não padronizados | B8: 433.49 | D8: ABIRATERONA 250MG COMP | E8: MATIZ | F8: EUROFARMA LABORATORIOS S.A. FILIAL 8 | G8: 6.08
A9: Recurso financeiro gasto com medicamentos de rotina: | B9: 515304.79 | D9: ALBUMINA HUMANA 20% 50ML | E9: - | F9: - | G9: -
D10: ALTEplase 50MG 1 F/A+DIL. 50ML | E10: ACTILYSE | F10: BOEHRINGER INGELHEIM DO BRASIL QUIMICA E FARMACEUTICA LTDA. | G10: 2559
A11: Quantidade de medicamentos adquiridos (princípio ativo - PA) | D11: AMPICILINA 2G + SULBACTAM 1G AMP. ( IV / IM ) | E11: GENERICO | F11: FRESENIUS KABI BRASIL LTDA. | G11: 11.25
B12: Nº medicamentos (PA) | D12: CeFAZolina 1G ( IV / IM ) AMP | E12: CEZOLIN | F12: BLAU FARMACEUTICA S.A. | G12: 3.79
A13: Medicamentos adquiridos não padronizados | B13: 1 | D13: CETOPROFENO 100MG/100ML (PRONTO USO) | E13: AXIFLENNID | F13: HALEXISTAR INDUSTRIA FARMACEUTICA LTDA | G13: 5.89
A14: Medicamentos adquiridos padronizados | B14: 261 | D14: CONTRASTE IODADO NÃO-IÔNICO DE BAIXA OSMOLARIDADE EQUIVALENTE A 300mg/mL DE IODO - Frasco 100mL | E14: OMNIPAQUE | F14: GE HEALTHCARE DO BRASIL COMERCIO E SERVICOS PARA EQUIPAMENTOS MEDICO-HOSPITALARES LTDA | G14: 149
D15: DIETA ENTERAL ESPECIALIZADA PARA DM - HIPERCALORICA E HIPERPROTEICA 1.5 KCAL/ML + 0,075G DE PROTEINA/ML - 1000ML | E15: DIBEM 1,5KCAL HP | F15: FRESENIUS KABI BRASIL LTDA. | G15: 70.2
A16: Medicamentos (unidade) com prazo de validade vencido | D16: DIETA ENTERAL PADRÃO HIPERCALORICA E HIPERPROTEICA 1.5 KCAL/ML + 0,075G DE PROTEINA/ML - 1000ML | E16: HP ENERGY | F16: FRESENIUS KABI BRASIL LTDA. | G16: 64.17
A17: Considerar a somatória dos quantitativos de todos os medicamentos | D17: ENOXAparina 40MG/0,4ML SER. ( IV / SC ) | E17: HEPTRIZ | F17: VIATRIS FARMACEUTICA DO BRASIL LTDA | G17: 11.14
B18: Nº medicamentos (UN) | D18: FILGRASTIM 300MCG/0,5ml - SC SERINGA (PRONTO PRA USO) | E18: FIPRIMA | F18: EUROFARMA LABORATORIOS S.A. FILIAL 8 | G18: 40
A19: Medicamentos vencidos | B19: 668 | D19: FLUORURACILA 2500MG/50ML – EV | E19: FAULDFLUOR | F19: LIBBS FARMACEUTICA LTDA | G19: 91.25
A20: Medicamentos em estoque total | B20: 358868 | D20: LEUCOVORIN (FOLINATO DE CÁLCIO) 300MG/30ML | E20: GENERICO | F20: EUROFARMA LABORATORIOS S.A. FILIAL 8 | G20: 107.5
D21: MEROPENEM 1G AMP. ( IV ) | E21: GENERICO | F21: BLAU FARMACEUTICA S.A | G21: 13.98
D22: METILprednisolona 125MG AMP. ( IV / IM ) | E22: GENERICO | F22: BLAU FARMACEUTICA S.A | G22: 11.4
D23: OCTREOTIDA 0,1MG/ML | E23: OCTRIDE 100 | F23: SUN FARMACEUTICA DO BRASIL LTDA | G23: 63.8
D24: OMEPRAZOL 40MG FR. ( IV ) | E24: UNIPRAZOL | F24: UNIAO QUIMICA FARMACEUTICA NACIONAL S A - FILIAL 9 | G24: 7.19
D25: PIPERACILINA 4G + TAZOBACTAM 0,5G AMP. ( IV ) | E25: GENERICO | F25: VIATRIS FARMACEUTICA DO BRASIL LTDA | G25: 13.99
D26: ROCUrônio 10MG/ML 5ML | E26: UNIREZ | F26: UNIAO QUIMICA FARMACEUTICA NACIONAL S A - FILIAL 9 | G26: 9.1
D27: SOLUÇÃO FISIOLOGICA 0,9% 1000ML | E27: GENERICO | F27: EUROFARMA LABORATORIOS S.A. FILIAL 8 | G27: 7.36
D28: SOLUÇÃO FISIOLOGICA 0,9% 100ML | E28: GENERICO | F28: FRESENIUS KABI BRASIL LTDA. | G28: 2.59
D29: SOLUÇÃO FISIOLOGICA 0,9% 500ML | E29: GENERICO | F29: EQUIPLEX INDUSTRIA FARMACEUTICA LTDA - | G29: 3.74

Sheet Materiais
A1: Planilha - Indicadores de Materiais
A3: Hospital: | B3: =Assistencial!B3 -> HOSPITAL REGIONAL TEREZINHA GAIO BASSO
A4: Mês/Ano: | B4: =Leitos!B4 -> 45870
D5: *Essa listagem deverá ser a curva A do almoxarifado do HRTGB
A6: Aquisição de materiais Técnico Hospitalares | D6: Preços de Aquisição de materiais hospitalares
B7: Valor R$ | D7: Material/Apresentação | E7: Lab. Fabricante | F7: Custo Unitário
A8: Recurso financeiro gasto com materiais não padronizados | B8: 513.51 | D8: AVENTAL DESCARTAVEL MANGA LONGA 35G - PCT C/ 10 UNIDADES | E8: PREVEMAX | F8: 18.1
A9: Recurso financeiro gasto com materiais de rotina: | B9: 216515.92 | D9: BOMBA DE INFUSÃO ELASTOMERICA PORTATIL P/ TERAPIA DE INFUSÃO A CURTO E LONGO PRAZO CAPACIDADE P/ 270ML-5mL/hora- DESCARTÁVEL C/ POCHETE | E9: - | F9: -
D10: CAMPO OPERATORIO ESTRELA 45X50 35G C/ FIO RADIOPACO - PCT C/50UN - NÃO ESTÉRIL | E10: CREMER | F10: 149
A11: Materiais Técnico Hospitalares (unidade) com prazo de validade vencido | D11: CAPILAR - DIALISADOR P/ HEMODIALISE DE BAIXO FLUXO - SUPERFICIE EFETIVA (m²) 1.8 - HPS F8 | E11: FRESENIUS MEDICAL CARE LTDA | F11: 158.78
A12: Considerar a somatória dos quantitativos de todos os materiais | D12: Equipo Bomba de Dieta Santronic - EQUIPO PARA BOMBA DE INFUSÃO SAMTRONIC ENTERAL S/FILTRO EI 0623 T000 | E12: SAMTRONIC INDUSTRIA E COMERCIO LTDA | F12: 22
B13: Nº materiais (UN) | D13: Equipo Bomba Normal Santronic - EQUIPO PARA BOMBA DE INFUSÃO SAMTRONIC S/FILTRO EI 0421 0000 | E13: SAMTRONIC INDUSTRIA E COMERCIO LTDA | F13: 21
A14: Materiais vencidos | B14: 14 | D14: F.VICRYL 1 C/A J535H | E14: JOHNSON | F14: 40.73
A15: Materiais em estoque total | B15: 162852 | D15: GAZE 10X10 13FIOS C/10UNID ESTERIL | E15: CREMER | F15: 1.99
A17: Mat. Hosp. adquiridos que não pertencem à padronização do hospital
A18: Considerar a somatória dos quantitativos de todos os materiais
B19: Nº materiais
A20: Materiais adquiridos não padronizados | B20: 1
A21: Materiais adquiridos padronizados total | B21: 221

Sheet Financeiro
A1: Planilha - Financeira Mensal
A3: UNIDADE
A4: =Assistencial!B3 -> HOSPITAL REGIONAL TEREZINHA GAIO BASSO
A6: Mês/Ano:
A7: =Leitos!B4 -> 45870
A9: DESCRIÇÃO | B9: =A7 -> 45870
A10: RECEITAS OPERACIONAIS | B10: R$
A11: Repasse Contrato de Gestão (Valor de custeio bruto) | B11: 5561424
A12: Repasse Contrato de Gestão - Retenção de Investimento (caso ocorra) | B12: 0
A13: Repasse Programas Especiais | B13: 0
A14: Desconto (Meta Não Atingida) | B14: 0
A15: Glosa de Recurso (Desconto) | B15: 0
A16: TOTAL REPASSES (Receita Líquida recebida da SES) | B16: =B11+B12+B13-B14-B15 -> 5561424
A17: Resultado de Aplicação Financeira | B17: 193306.99
A18: Reembolso de Despesas | B18: 0
A19: Obtenção de Recursos Externos a SES | B19: 0
A20: Demais Receitas (Convênios) | B20: =-2363.64+103786.23+100814.36+114193.4 -> 316430.35
A21: Receitas Extras | B21: 0
A22: Outras Receitas | B22: 0
A23: TOTAL OUTRAS RECEITAS | B23: =SUM(B17:B22) -> 509737.34
A24: TOTAL DE RECEITAS OPERACIONAIS | B24: =B23+B16 -> 6071161.3
A26: =A9 -> DESCRIÇÃO | B26: =B9 -> 45870
A27: DESPESAS OPERACIONAIS | B27: R$
A28: 1. Pessoal | B28: =SUM(B30:B39) -> 2282757.7
A29: 1.1. Ordenados (Não inclui férias, 13º e Rescisão) | B29: =SUM(B30:B31) -> 1755140.5
B30: =1949618.02-207258.35+12780.84 -> 1755140.5
A31: 1.1.2. Administrativo | B31: 0
A32: 1.2. INSS do Empregador | B32: 0
A33: 1.3. FGTS | B33: =198597.26-19492.74 -> 179104.52
A34: 1.4. PIS | B34: 0
A35: 1.5. Benefícios | B35: 0
A36: 1.6. Provisões (Férias) - Retenções | B36: =233229.06-8779.86 -> 224449.2
A37: 1.7. Provisões (13º sal) - Retenções | B37: =149514.14-27800.5 -> 121713.64
A38: 1.8. Provisões (Rescisões) - Retenções | B38: =11192.04-8842.22 -> 2349.82
A39: 1.9. Despesas Judiciais Trabalhistas | B39: 0
A40: 2. Insumos Assistenciais | B40: =SUM(B41:B45) -> 911594.9
A41: 2.1. Materiais Descartáveis | B41: =220241.5-460.85+24140.6+56987.16-0.02+847.14 -> 301755.53
A42: 2.2. Medicamentos | B42: =345154.93-83.2+189157.14-B43 -> 496851.31
A43: 2.3. Dietas Industrializadas | B43: 37377.56
A44: 2.4. Gases Medicinais | B44: 16919.84
...
