Workbook
Name ValidDepts: Ambulatorio!#REF!
Name ValidDepts: Assistencial!#REF!
Name ValidDepts: SADT!#REF!
Name ValidDepts: 'Urgência Emergência'!#REF!
Name ValidDepts: #REF!

Sheet Capa
A3: ORGANIZAÇÃO SOCIAL: | D3: INSTITUTO SANTE
A5: HOSPITAL: | D5: HOSPITAL REGIONAL TEREZINHA GAIO BASSO
B13: SUPERVISÃO E ACOMPANHAMENTO DA EXECUÇÃO DO CONTRATO DE GESTÃO nº 07/2023
A21: FEVEREIRO
A29: SÃO MIGUEL DO OESTE, 15 DE MARÇO DE 2026

Sheet Leitos
A1: Planilha - Atividade Assistencial Hospitalar - Mensal
A3: Hospital: | B3: HOSPITAL REGIONAL TEREZINHA GAIO BASSO
A4: Mês/Ano: | B4: 46054
A6: 1 Leitos
A7: Clinicas | B7: Leito Existente | C7: Leito Desativado | D7: Leito Bloqueado | E7: Leito Extra
A8: =Assistencial!A8 -> 1. Clínica Cirúrgica | B8: 35 | C8: 0 | D8: 0 | E8: 0
A9: =Assistencial!A9 -> 2. Clínica Médica | B9: 34 | C9: 0 | D9: 0 | E9: 0
A10: =Assistencial!A10 -> 3. Oncologia Clínica | B10: 0 | C10: 0 | D10: 0 | E10: 0
A11: =Assistencial!A11 -> 4. Oncologia Cirúrgica | B11: 0 | C11: 0 | D11: 0 | E11: 0
A12: =Assistencial!A12 -> 5. Clínica Gineco/Obstétrica | B12: 7 | C12: 0 | D12: 0 | E12: 0
A13: =Assistencial!A13 -> 6. Clínica Pediátrica | B13: 6 | C13: 0 | D13: 0 | E13: 0
A14: =Assistencial!A14 -> 7. UTI Adulto | B14: 10 | C14: 0 | D14: 0 | E14: 0
A15: Total | B15: =SUM(B8:B14) -> 92 | C15: =SUM(C8:C14) -> 0 | D15: =SUM(D8:D14) -> 0 | E15: =SUM(E8:E14) -> 0
A18: 2. Leitos CNES 6683134
A19: COMPLEMENTAR
A20: UTI ADULTO - TIPO II | C20: 10
A21: ESPEC - CIRURGICO
A22: BUCO MAXILO FACIAL | C22: 1
A23: CIRURGIA GERAL | C23: 17
A24: GINECOLOGIA | C24: 1
A25: NEFROLOGIA / UROLOGIA | C25: 2
A26: NEUROCIRURGIA | C26: 2
A27: OFTALMOLOGIA | C27: 1
A28: ORTOPEDIA / TRAUMATOLOGIA | C28: 10
A29: OTORRINOLARINGOLOGIA | C29: 1
A30: ESPEC - CLINICO
A31: CARDIOLOGIA | C31: 2
A32: CLINICA GERAL | C32: 20
A33: NEFRO / UROLOGIA | C33: 3
A34: NEUROLOGIA | C34: 2
A35: ONCOLOGIA | C35: 2
A36: PNEUMOLOGIA | C36: 5
A37: OBSTETRICO
A38: OBSTETRICIA CIRURGICA | C38: 5
A39: OBSTETRICIA CLINICA | C39: 2
A40: PEDIATRICO
A41: PEDIATRIA CLINICA | C41: 6
A42: TOTAL | C42: =SUM(C19:C41) -> 92
C43: =IF(C42+C15+D15+E15=B15,"ok","rever") -> ok

Sheet Urgência Emergência
A1: Planilha - Atividade Assistencial - Mensal
A3: Hospital: | B3: HOSPITAL REGIONAL TEREZINHA GAIO BASSO
A4: Mês/Ano: | B4: =Leitos!B4 -> 46054
A6: 1. ATENDIMENTO DE URGÊNCIA E EMERGÊNCIA
F7: Quantidade
A8: 1. Atendimento de Urgência e Emergência em Atenção Especializada | F8: 2320
A9: 2. Cirurgias de Urgência e Emergência | F9: 383
A10: Total | F10: =SUM(F8:F9) -> 2703
A11: *CG, PAG 39, 1.5.3. A EXECUTORA deverá enviar mensalmente até o 15º dia subsequente ao mês de produção, as seguintes informações: o quantitativo de atendimentos de Urgência/Emergência, escala de serviço médico e de enfermagem da EMG, escala de sobreaviso das especialidades, Relatório do Sistema de Gestão Hospitalar com o número de atendimentos conforme a Classificação de Risco.

Sheet Assistencial
A1: Planilha - Atividade Assistencial Hospitalar - Mensal
A3: Hospital: | B3: HOSPITAL REGIONAL TEREZINHA GAIO BASSO | G3: CNES: | H3: 6683134
A4: Mês/Ano: | B4: 46054
A6: 1. ASSISTÊNCIA HOSPITALAR - INTERNAÇÃO
A7: Clinicas | B7: Altas | C7: Transferências Externas | D7: Óbitos < 24hs | E7: Óbitos >= 24hs | F7: Saídas Hospitalares | G7: Transferências Internas (UTI) | H7: Leitos Operacionais Dia | I7: Pacientes - Dia
A8: 1. Clínica Cirúrgica | B8: =190-6-2-3 -> 179 | C8: 6 | D8: 2 | E8: 3 | F8: =SUM(B8:E8) -> 190 | G8: - | H8: 728 | I8: 584
A9: 2. Clínica Médica | B9: =192-12-5-15 -> 160 | C9: 12 | D9: 5 | E9: 15 | F9: =SUM(B9:E9) -> 192 | G9: - | H9: 728 | I9: 714
A10: 3. Oncologia Clínica | B10: =6-3 -> 3 | C10: 0 | D10: 0 | E10: 3 | F10: =SUM(B10:E10) -> 6 | G10: - | H10: 102 | I10: 63
A11: 4. Oncologia Cirúrgica | B11: =65-2 -> 63 | C11: 0 | D11: 0 | E11: 2 | F11: =SUM(B11:E11) -> 65 | G11: - | H11: 318 | I11: 197
A12: 5. Clínica Gineco/Obstétrica | B12: 91 | C12: 0 | D12: 0 | E12: 0 | F12: =SUM(B12:E12) -> 91 | G12: - | H12: =420-168 -> 252 | I12: 139
A13: 6. Clínica Pediátrica | B13: =47-3 -> 44 | C13: 3 | D13: 0 | E13: 0 | F13: =SUM(B13:E13) -> 47 | G13: - | H13: 168 | I13: 166
A14: 7. UTI Adulto | B14: - | C14: 1 | D14: 11 | E14: 0 | F14: 12 | G14: 24 | H14: 280 | I14: 254
A15: Total | B15: =SUM(B8:B13) -> 540 | C15: =SUM(C8:C14) -> 22 | D15: =SUM(D8:D14) -> 18 | E15: =SUM(E8:E14) -> 23 | F15: =SUM(F8:F14) -> 603 | G15: 24 | H15: =SUM(H8:H14) -> 2576 | I15: =SUM(I8:I14) -> 2117
A16: C.G., PAG. 39, 1.6.2. Para fins de aferição de meta serão consideradas as Saídas Hospitalares ocorridas entre o dia 1º a 30/31 de cada mês, tendo como parâmetro o dia de saída do paciente do Hospital.
A17: 1.1 Saídas das UTIs por Clínica (Transf. Externas + Óbitos) | D17: 1.2 Transf. Internas das UTIs por Clínica
A18: Clinicas | B18: N° Saídas | D18: Clinicas | E18: N° Transferências
A19: =A8 -> 1. Clínica Cirúrgica | B19: 1 | D19: =A19 -> 1. Clínica Cirúrgica | E19: 13
A20: =A9 -> 2. Clínica Médica | B20: 7 | D20: =A20 -> 2. Clínica Médica | E20: 8
A21: =A10 -> 3. Oncologia Clínica | B21: 1 | D21: =A21 -> 3. Oncologia Clínica | E21: 1
A22: =A11 -> 4. Oncologia Cirúrgica | B22: 2 | D22: =A22 -> 4. Oncologia Cirúrgica | E22: 2
A23: =A12 -> 5. Clínica Gineco/Obstétrica | B23: 0 | D23: =A23 -> 5. Clínica Gineco/Obstétrica | E23: 0
A24: =A13 -> 6. Clínica Pediátrica | B24: 0 | D24: =A24 -> 6. Clínica Pediátrica | E24: 0
A25: 7. Outra Unidade Hospitalar | B25: 1 | D25: Total | E25: =SUM(E19:E24) -> 24
A26: Total | B26: =SUM(B19:B25) -> 12 | E26: =IF(E25=G14,"OK","REVER") -> OK
B27: =IF(B26=F14,"OK","REVER") -> OK
A29: 1.3 Clínicas | B29: Número de Saídas Hospitalares | D29: Bases para o cálculo do número de saídas
B30: Média Mensal | C30: % Total | D30: Leitos Operacionais | E30: Permanência Média | F30: Taxa de Ocupação
A31: =A8 -> 1. Clínica Cirúrgica | B31: =F8 -> 190 | C31: =B31/$B$38 -> 0.31509121 | D31: =H8 -> 728 | E31: =I8/F8 -> 3.0736842 | F31: =I8/H8 -> 0.8021978
A32: =A9 -> 2. Clínica Médica | B32: =F9 -> 192 | C32: =B32/$B$38 -> 0.31840796 | D32: =H9 -> 728 | E32: =I9/F9 -> 3.71875 | F32: =I9/H9 -> 0.98076923
A33: =A10 -> 3. Oncologia Clínica | B33: =F10 -> 6 | C33: =B33/$B$38 -> 0.0099502488 | D33: =H10 -> 102 | E33: =I10/F10 -> 10.5 | F33: =I10/H10 -> 0.61764706
A34: =A11 -> 4. Oncologia Cirúrgica | B34: =F11 -> 65 | C34: =B34/$B$38 -> 0.10779436 | D34: =H11 -> 318 | E34: =I11/F11 -> 3.0307692 | F34: =I11/H11 -> 0.61949686
A35: =A12 -> 5. Clínica Gineco/Obstétrica | B35: =F12 -> 91 | C35: =B35/$B$38 -> 0.15091211 | D35: =H12 -> 252 | E35: =I12/F12 -> 1.5274725 | F35: =I12/H12 -> 0.5515873
A36: =A13 -> 6. Clínica Pediátrica | B36: =F13 -> 47 | C36: =B36/$B$38 -> 0.077943615 | D36: =H13 -> 168 | E36: =I13/F13 -> 3.5319149 | F36: =I13/H13 -> 0.98809524
A37: =A14 -> 7. UTI Adulto | B37: =F14 -> 12 | C37: =B37/$B$38 -> 0.019900498 | D37: =H14 -> 280 | E37: =I14/(G14+F14) -> 7.0555556 | F37: =I14/H14 -> 0.90714286
A38: Total | B38: =SUM(B31:B37) -> 603 | C38: =B38/$B$38 -> 1 | D38: =SUM(D31:D37) -> 2576 | E38: =AVERAGE(E31:E37) -> 4.6340209 | F38: =I15/H15 -> 0.82181677

Sheet Ambulatorio
A1: Planilha - Atividade Assistencial Ambulatorial - Mensal
A3: Hospital: | B3: HOSPITAL REGIONAL TEREZINHA GAIO BASSO
A4: Mês/Ano: | B4: =Assistencial!B4 -> 46054
A6: 1. ATENDIMENTO AMBULATORIAL
A7: 1.1 Consultas Médicas
A8: Especialidade | B8: Primeiras Consultas (TCGA, Agenda Interna e Regulação**) | C8: Interconsulta | D8: Consulta Subsequente | E8: Total
A9: Anestesiologia | B9: 2 | C9: 0 | D9: 98 | E9: =SUM(B9:D9) -> 100
A10: Cardiologia | B10: 111 | C10: 0 | D10: =91+8+1+6+2 -> 108 | E10: =SUM(B10:D10) -> 219
A11: Cirurgia Geral | B11: 25 | C11: 0 | D11: =72+41+4+1+1 -> 119 | E11: =SUM(B11:D11) -> 144
A12: Cirurgia Vascular | B12: 60 | C12: 0 | D12: =55+9 -> 64 | E12: =SUM(B12:D12) -> 124
A13: Clínica Médica Geral | B13: 0 | C13: 0 | D13: 9 | E13: =SUM(B13:D13) -> 9
A14: Gastroenterologia | B14: 28 | C14: 0 | D14: 17 | E14: =SUM(B14:D14) -> 45
A15: Ginecologia/obstetrícia | B15: 17 | C15: 0 | D15: 13 | E15: =SUM(B15:D15) -> 30
A16: Hepatologia | B16: 17 | C16: 0 | D16: 11 | E16: =SUM(B16:D16) -> 28
A17: Infectologia | B17: 6 | C17: 0 | D17: 33 | E17: =SUM(B17:D17) -> 39
A18: Mastologia | B18: 14 | C18: 0 | D18: 6 | E18: =SUM(B18:D18) -> 20
A19: Neurocirurgia | B19: 0 | C19: 0 | D19: 18 | E19: =SUM(B19:D19) -> 18
A20: Neurologia | B20: 17 | C20: 0 | D20: =21+27 -> 48 | E20: =SUM(B20:D20) -> 65
A21: Oftalmologia | B21: 246 | C21: 0 | D21: 196 | E21: =SUM(B21:D21) -> 442
A22: Oncologia Clínica | B22: =12+62 -> 74 | C22: 0 | D22: =454+346+1 -> 801 | E22: =SUM(B22:D22) -> 875
A23: Oncologia Cirúrgica | B23: 29 | C23: 0 | D23: =106+57 -> 163 | E23: =SUM(B23:D23) -> 192
A24: Ortopedia/Traumatologia | B24: 50 | C24: 0 | D24: =126+136 -> 262 | E24: =SUM(B24:D24) -> 312
A25: Otorrinolaringologia Adulto | B25: 84 | C25: 0 | D25: =33+12 -> 45 | E25: =SUM(B25:D25) -> 129
A26: Otorrinolaringologia Pediátrica | B26: 14 | C26: 0 | D26: 8 | E26: =SUM(B26:D26) -> 22
A27: Pediatria | B27: 1 | C27: 0 | D27: 38 | E27: =SUM(B27:D27) -> 39
A28: Pneumologia | B28: 7 | C28: 0 | D28: 9 | E28: =SUM(B28:D28) -> 16
A29: Proctologia | B29: 13 | C29: 0 | D29: =12+3+1 -> 16 | E29: =SUM(B29:D29) -> 29
A30: Urologia | B30: 29 | C30: 0 | D30: =15+7+1 -> 23 | E30: =SUM(B30:D30) -> 52
A31: Total | B31: =SUM(B9:B30) -> 844 | C31: =SUM(C9:C30) -> 0 | D31: =SUM(D9:D30) -> 2105 | E31: =SUM(E9:E30) -> 2949
A33: 1.2 Procedimentos Ambulatoriais
A34: Especialidade | B34: Realizado Regulação** | C34: Agenda Interna | D34: Total
A35: Procedimentos Oftalmológicos (fotocoagulação a laser, outros...) | B35: 11 | C35: 9 | D35: =SUM(B35:C35) -> 20
A36: Procedimentos de Quimioterapia (nº de sessões) | B36: - | C36: =212+313 -> 525 | D36: =SUM(B36:C36) -> 525
A37: Total | B37: =SUM(B35:B36) -> 11 | C37: =SUM(C35:C36) -> 534 | D37: =SUM(D35:D36) -> 545
A39: 1.3 Consultas não médicas
A40: Especialidade | B40: =B34 -> Realizado Regulação** | C40: =C34 -> Agenda Interna | D40: Total
A41: Bucomaxilofacial | B41: 2 | C41: 4 | D41: =SUM(B41:C41) -> 6
A42: Fonoaudiologia | B42: - | C42: 147 | D42: =SUM(B42:C42) -> 147
A43: Nutrição Clínica | B43: - | C43: 18 | D43: =SUM(B43:C43) -> 18
A44: Psicologia | B44: - | C44: 142 | D44: =SUM(B44:C44) -> 142
...

Sheet SADT
A1: Planilha - Atividade Assistencial - Mensal
A3: Hospital: | B3: HOSPITAL REGIONAL TEREZINHA GAIO BASSO
A4: Mês/Ano: | B4: =Ambulatorio!B4 -> 46054
A6: 1.SERVIÇOS DE APOIO DIAGNÓSTICO E TERAPÊUTICO - EXTERNO REALIZADO
B7: Realizado Regulação** | C7: Agenda Interna Hospital + TCGA | D7: Total / Meta Mês
A8: Colonoscopia | B8: 67 | C8: 34 | D8: =SUM(B8:C8) -> 101
A9: Endoscopia | B9: 190 | C9: 16 | D9: =SUM(B9:C9) -> 206
A10: Exames de Anatomia Patológica | B10: 0 | C10: 1156 | D10: =SUM(B10:C10) -> 1156
A11: Mamografia | B11: 178 | C11: 18 | D11: =SUM(B11:C11) -> 196
A12: Radiologia | B12: 787 | C12: 344 | D12: =SUM(B12:C12) -> 1131
A13: Retinografia Colorida Binocular | B13: 4 | C13: 0 | D13: =SUM(B13:C13) -> 4
A14: Tomografia/Angiotomografia | B14: 86 | C14: 420 | D14: =SUM(B14:C14) -> 506
A15: Ultrassonografia | B15: 366 | C15: 135 | D15: =SUM(B15:C15) -> 501
A16: Total | B16: =SUM(B8:B15) -> 1678 | C16: =SUM(C8:C15) -> 2123 | D16: =SUM(D8:D15) -> 3801
A17: 1.8.4. Para fins de aferição de meta serão considerados exames externos os atendimentos realizados em caráter eletivo, ocorridos entre o dia 1º a 30/31 de cada mês, tendo como parâmetro o dia em que o paciente realizou o exame no Hospital. Esta meta será acompanhada através do Sistema de Informações Ambulatoriais.
A19: 2. SADT Externo - Regulação
A20: Especialidade | C20: Nº de exames disponibilizadas para Regulação | D20: Nº de exames agendadas com os pacientes oriundos da Regulação | E20: Nº de exames Realizadas com pacientes oriundos da Regulação** | F20: Nº de Pacientes Faltantes oriundos do agendamento da Regulação
A22: =A8 -> Colonoscopia | C22: 88 | D22: 76 | E22: 67 | F22: =D22-E22 -> 9
A23: =A9 -> Endoscopia | C23: 226 | D23: 213 | E23: 190 | F23: =D23-E23 -> 23
A24: =A10 -> Exames de Anatomia Patológica | C24: 0 | D24: 0 | E24: 0 | F24: =D24-E24 -> 0
A25: =A11 -> Mamografia | C25: 220 | D25: 209 | E25: 178 | F25: =D25-E25 -> 31
A26: =A12 -> Radiologia | C26: 1000 | D26: 862 | E26: 787 | F26: =D26-E26 -> 75
A27: =A13 -> Retinografia Colorida Binocular | C27: 6 | D27: 6 | E27: 4 | F27: =D27-E27 -> 2
A28: =A14 -> Tomografia/Angiotomografia | C28: 140 | D28: 93 | E28: 86 | F28: =D28-E28 -> 7
A29: =A15 -> Ultrassonografia | C29: 609 | D29: 432 | E29: 366 | F29: =D29-E29 -> 66
A30: =A16 -> Total | C30: =SUM(C22:C29) -> 2289 | D30: =SUM(D22:D29) -> 1891 | E30: =SUM(E22:E29) -> 1678 | F30: =SUM(F22:F29) -> 213
A32: 3. Exames Internos - Internação
D33: Nº Exames
A34: Eletrocardiograma | D34: 0
A35: Exames Anatomopatológicos | D35: 297
A36: Exames de Colonoscopia | D36: 3
A37: Exames de Endoscopia | D37: 19
A38: Exames de Mamografia | D38: 0
A39: Exames de Radiologia | D39: 281
A40: Exames de Tomografias | D40: 114
A41: Exames de Ultrassom | D41: 83
A42: Exames Laboratoriais | D42: 4926
A43: Total | D43: =SUM(D34:D42) -> 5723
A45: 4. Exames Internos - Urgência e Emergência
D46: Nº Exames
...

Sheet Atividade Cirúrgica
A1: Planilha - Atividade Assistencial Hospitalar - Mensais
A3: Hospital: | B3: HOSPITAL REGIONAL TEREZINHA GAIO BASSO
A4: Mês/Ano: | B4: 46054
A6: 1. Cirurgias
C7: Quantidade
A8: a) Cirurgias de Média Complexidade | C8: =SUM(C142) -> 426
A9: b) Cirurgias de Alta Complexidade | C9: =SUM(C172) -> 67
A10: Nº Total de Cirurgias | C10: =SUM(C8:C9) -> 493
A12: 2. Atividade Cirúrgica
C13: Quantidade
A14: Eletiva* | C14: 110
A15: Urgência | C15: 383
A16: Nº Total de Cirurgias | C16: =SUM(C14:C15) -> 493 | D16: =IF(C16=C10,"ok","rever") -> ok
A17: *CG, PAG. 33, 21.1.1. O Hospital deverá destinar, no mínimo 15% (quinze por cento), do volume total de cirurgias realizadas no mês, aos pacientes eletivos, em lista de espera, encaminhados pela Central de Regulação de Internações Hospitalares (drive cirúrgico).
A19: 2.2. Indicadores da Atividade Cirúrgica
C20: Quantidade
A21: Taxa de Cirurgias Eletivas | C21: =C14/C16 -> 0.22312373
A22: Taxa de Cirurgias de Urgência | C22: =C15/C16 -> 0.77687627
A24: 3. Salas Cirúrgicas
C25: Quantidade
A26: N° Salas Cirúrgicas Operacionais/Dia | C26: 4
A29: 4. Cirurgias de Média Complexidade
A30: Código | B30: Nome do procedimento realizado | C30: Quantidade
A31: 03.10.01.003-9 | B31: PARTO NORMAL | C31: 54
A32: 04.07.04.018-8 | B32: LIBERAÇÃO DE ADERÊNCIAS INTESTINAIS | C32: 32
A33: 04.07.04.025-0 | B33: TRATAMENTO CIRÚRGICO DE PERITONITE | C33: 23
A34: 04.07.02.003-9 | B34: APENDICECTOMIA | C34: 18
A35: 04.11.01.003-4 | B35: OPERACAO CESARIANA | C35: 18
A36: 04.15.04.003-5 | B36: DEBRIDAMENTO DE ULCERA / DE TECIDOS DESVITALIZADOS | C36: 16
A37: 02.09.02.001-6 | B37: CISTOSCOPIA E/OU URETEROSCOPIA E/OU URETROSCOPIA | C37: 12
A38: 04.06.02.057-4 | B38: TRATAMENTO CIRÚRGICO DE VARIZES (UNILATERAL) | C38: 10
A39: 04.01.02.005-3 | B39: EXCISÃO E SUTURA DE LESAO NA PELE C/ PLÁSTICA EM Z OU ROTAÇÃO DE RETALHO | C39: 9
A40: 04.08.02.017-2 | B40: REDUÇÃO INCRUENTA DE FRATURA / LESÃO FISARIA NO PUNHO | C40: 9
A41: 04.07.03.003-4 | B41: COLECISTECTOMIA VIDEOLAPAROSCÓPICA | C41: 8
A42: 04.08.05.063-2 | B42: TRATAMENTO CIRÚRGICO DE FRATURA TRANSTROCANTERIANA | C42: 8
... A141: 04.15.02.003-4 | B141: OUTROS PROCEDIMENTOS COM CIRURGIAS SEQUENCIAIS | C141: 1
A142: Nº Total de Cirurgias de Média Complexidade | C142: =SUM(C31:C141) -> 426
A144: 5. Cirurgias de Alta Complexidade
A145: Código | B145: Nome do procedimento realizado | C145: Quantidade
A146: 04.16.08.003-0 | B146: EXCISÃO E SUTURA DE LESÃO NA PELE COM PLASTICA EM Z OU ROTAÇÃO DE RETALHO EM ONCOLOGIA | C146: 18
...

Sheet Qualidade
A1: Planilha - Indicadores de Qualidade Mensais
A3: Hospital: | B3: =Capa!D5 -> HOSPITAL REGIONAL TEREZINHA GAIO BASSO
A4: Mês/Ano: | B4: =Assistencial!B4 -> 46054
A6: 1. Apresentação de Autorização de Internação Hospitalar (AIH) | C6: Quantidade
A7: Nº de AIH’s apresentadas à GMAPS | C7: 600
A8: Nº de Saídas Hospitalares informadas pelo Hospital no mês | C8: =B29 -> 603
A10: 2. Controle de Infecção Hospitalar
B11: N° Infecção Geral Hospitalar | D11: Taxa Infecção geral hospitalar
B12: 6 | D12: =B12/B29 -> 0.0099502488
B14: 2.1 Controle de Infecção Hospitalar - UTI Adulto
B15: N° Infecções Hospitalares | C15: N° Infecções Corrente Sang. em Pac. com CVC | D15: N° Pac./Dia com CVC | E15: Nº de Pneumonias em Pacientes com Vent. Mecânica | F15: Nº de Pac./Dia com Ventilação Mecânica
B16: 4 | C16: 1 | D16: 180 | E16: 3 | F16: 96
B18: 2.3 Controle de Infecção Hospitalar - UTI Adulto
B19: DIH UTI | C19: DIIH CVC UTI | D19: Taxa VM UTI
B20: =B16/Assistencial!I14*1000 -> 15.748031 | C20: =C16/D16*1000 -> 5.5555556 | D20: =F16/Assistencial!I14 -> 0.37795276
A21: CG, PAG.46, 2.7.3. O cumprimento da meta está relacionado ao envio do relatório mensal, elaborado pelo Serviço de Controle de Infecção Hospitalar da unidade, que contenha o valor dos indicadores mensais, a análise dos resultados com o comparativo de referência (utilizado pelo Serviço de Controle de Infecção Hospitalar do hospital) e o plano de ação com as medidas de correção e controle, quando se fizerem necessárias. O Relatório deverá estar assinado pelo enfermeiro e médico infectologista do serviço.
A24: 3. Mortalidade | D24: 3.3 Mortalidade Operatória por ASA
B25: Quantidade | E25: Nº de Pacientes Operados | F25: Nº de Óbitos até 7 Dias | G25: Taxa de Mortalidade Operatória | H25: Nº de Cirurgias de Urgência | I25: Taxa de Cirurgias de Urgência por ASA
A26: Nº de óbitos ≥ 24hs de internação no mês (N° Óbitos Institucionais) | B26: 23 | D26: Avaliação Anestésica ASA 1 | E26: 146 | F26: 0 | G26: =F26/E26 -> 0 | H26: 147 | I26: =H26/H32 -> 0.38381201
A27: N° Óbitos até 7 Dias após Proc. Cirúrgico | B27: 4 | D27: Avaliação Anestésica ASA 2 | E27: 165 | F27: 0 | G27: =F27/E27 -> 0 | H27: 165 | I27: =H27/H32 -> 0.4308094
A28: N° Total Pacientes Operados | B28: =E32 -> 382 | D28: Avaliação Anestésica ASA 3 | E28: 62 | F28: 3 | G28: =F28/E28 -> 0.048387097 | H28: 62 | I28: =H28/H32 -> 0.1618799
A29: Nº Total de Saídas Hospitalares | B29: =Assistencial!F15 -> 603 | D29: Avaliação Anestésica ASA 4 | E29: 7 | F29: 1 | G29: =F29/E29 -> 0.14285714 | H29: 7 | I29: =H29/H32 -> 0.018276762
D30: Avaliação Anestésica ASA 5 | E30: 2 | F30: 0 | G30: =F30/E30 -> 0 | H30: 2 | I30: =H30/H32 -> 0.0052219321
A31: 3.1 Indicadores Mortalidade Operatória (TMO) | D31: Avaliação Anestésica ASA 6 | E31: 0 | F31: - | G31: - | H31: - | I31: -
B32: % | D32: Total | E32: =SUM(E26:E31) -> 382 | F32: =SUM(F26:F30) -> 4 | G32: =SUM(G26:G30) -> 0.19124424 | H32: =SUM(H26:H30) -> 383 | I32: =SUM(I26:I30) -> 1
A33: Taxa de Mortalidade Operatória | B33: =B27/B28 -> 0.010471204 | D33: C.G., PAG. 47, 2.8.6. O cumprimento da meta está relacionado ao envio do relatório / ata mensal, elaborado pela Comissão de Óbito do Hospital, com a análise dos resultados da TMO e TM, com o comparativo de referência, devidamente assinado pelos seus membros.
A35: 3.2 Indicadores Mortalidade Institucional (TM)
B36: %
A37: Taxa de Mortalidade Institucional | B37: =(B26/B29) -> 0.03814262
A39: 3.4 Mortalidade Intra-Hospitalar Neonatal
B40: Nascidos Vivos | C40: Apgar 1 min >= 7 | D40: Apgar 5 min >= 7 | E40: Nascidos Mortos | F40: Óbitos 0-6 dias | G40: Óbitos 7-28 dias | H40: Óbitos 29 dias e +
A41: < 500g | B41: 0 | C41: 0 | D41: 0 | E41: 0 | F41: 0 | G41: 0 | H41: 0
A42: 500 - 749g | B42: 0 | C42: 0 | D42: 0 | E42: 0 | F42: 0 | G42: 0 | H42: 0
A43: 750 - 999g | B43: 0 | C43: 0 | D43: 0 | E43: 0 | F43: 0 | G43: 0 | H43: 0
A44: 1000 - 1249g | B44: 0 | C44: 0 | D44: 0 | E44: 0 | F44: 0 | G44: 0 | H44: 0
A45: 1250 - 1499g | B45: 0 | C45: 0 | D45: 0 | E45: 0 | F45: 0 | G45: 0 | H45: 0
A46: 1500 - 1749g | B46: 0 | C46: 0 | D46: 0 | E46: 0 | F46: 0 | G46: 0 | H46: 0
A47: 1750 - 1999g | B47: 1 | C47: 1 | D47: 0 | E47: 0 | F47: 0 | G47: 0 | H47: 0
A48: 2000-2249g | B48: 1 | C48: 0 | D48: 1 | E48: 0 | F48: 0 | G48: 0 | H48: 0
A49: 2250 - 2499g | B49: 1 | C49: 0 | D49: 1 | E49: 0 | F49: 0 | G49: 0 | H49: 0
...

Sheet Qualidade PSU
A1: Planilha - Indicadores de Qualidade Mensais - Pesquisa de Satisfação
A3: Hospital: | B3: =Capa!D5 -> HOSPITAL REGIONAL TEREZINHA GAIO BASSO
A4: Mês/Ano: | B4: =Qualidade!B4 -> 46054
A6: 1. Pesquisa de Satisfação
A7: SETOR | C7: Nº total de pacientes atendidos no grupo | E7: Nº de pesquisas realizadas no grupo
A8: Pacientes ou acompanhantes em atendimento no serviço de urgência e emergência | C8: 2320 | E8: 106
A9: Pacientes ou acompanhantes de pacientes internados | C9: 592 | E9: 204
A10: Pacientes ou acompanhantes de pacientes em atendimento ambulatorial ou SADT Externo | C10: 7608 | E10: 278
A11: Pacientes ou acompanhantes de pacientes após alta hospitalar | C11: 540 | E11: 61
A12: Total | C12: =SUM(C8:D11) -> 11060 | E12: =SUM(E8:F11) -> 649
A14: 2. Nível de Satisfação Geral do Hospital
A15: Setores | B15: Total de atendimentos | C15: Encantado | D15: Satisfeito | E15: Insatisfeito | F15: Decepcionado | G15: Quantitativo | H15: % de Participação | I15: SATISFATORIO | J15: INSATISFATÓRIO
A16: Atendimento de Urgência e Emergência | B16: =C8 -> 2320 | C16: 165 | D16: 815 | E16: 54 | F16: 26 | G16: =SUM(C16:F16) -> 1060 | H16: =(E8/C8)*100 -> 4.5689655 | I16: =(C16+D16)/G16 -> 0.9245283 | J16: =(E16+F16)/G16 -> 0.075471698
A17: Setores de Internação - Paciente Internados | B17: =C9 -> 592 | C17: 479 | D17: 1325 | E17: 23 | F17: 9 | G17: =SUM(C17:F17) -> 1836 | H17: =(E9/C9)*100 -> 34.459459 | I17: =(C17+D17)/G17 -> 0.98257081 | J17: =(E17+F17)/G17 -> 0.017429194
A18: Atendimento Ambulatorial ou SADT Externo | B18: =C10 -> 7608 | C18: 714 | D18: 1718 | E18: 55 | F18: 15 | G18: =SUM(C18:F18) -> 2502 | H18: =(E10/C10)*100 -> 3.6540484 | I18: =(C18+D18)/G18 -> 0.97202238 | J18: =(E18+F18)/G18 -> 0.027977618
A19: Pacientes - Após Alta Hospitalar | B19: =C11 -> 540 | C19: 175 | D19: 366 | E19: 7 | F19: 1 | G19: =SUM(C19:F19) -> 549 | H19: =(E11/C11)*100 -> 11.296296 | I19: =(C19+D19)/G19 -> 0.98542805 | J19: =(E19+F19)/G19 -> 0.014571949
A20: TOTAL - GERAL | B20: =SUM(B16+B18+B17+B19) -> 11060 | C20: =SUM(C16+C18+C17+C19) -> 1533 | D20: =SUM(D16+D18+D17+D19) -> 4224 | E20: =SUM(E16+E18+E17+E19) -> 139 | F20: =SUM(F16+F18+F17+F19) -> 51 | G20: =SUM(G16:G19) -> 5947 | H20: =SUM(H16:H19) -> 53.97877 | I20: =(C20+D20)/G20 -> 0.96805112 | J20: =(E20+F20)/G20 -> 0.031948882
A21: CG, PAG. 45, 2.6.5. A meta para o nível de satisfação geral do Hospital (encantado e satisfeito) deverá ser igual ou maior que 90% no trimestre. A EXECUTORA deverá encaminhar a pesquisa detalhada apresentando o nível de satisfação por área avaliada e o quantitativo de Ouvidoras mensais recebidas e estratificadas pelo tipo de manifestação.

Sheet Recursos Humanos
A1: Planilha - Indicadores de Recursos Humanos Mensais
A3: Hospital: | B3: =Capa!D5 -> HOSPITAL REGIONAL TEREZINHA GAIO BASSO
A4: Mês/Ano: | B4: ='Qualidade PSU'!B4:C4 -> 46054
A6: Nº de Funcionários | D6: Nº de Funcionários Administrativos | I6: Nº de Funcionários Técnicos
B7: Quantidade | D7: Especficação Cargo | I7: Especficação Cargo
A8: Nº Total Funcionários (Todos os Vínculos) | B8: =B19+B29+K26+F73+B52+B38 -> 549 | E8: Estatutários | F8: Celetista | G8: Cedido | J8: Estatutários | K8: Celetista | L8: Cedido
B9: =IF(B19+B29+B38+B48+B52+E73+F73+G73+J26+K26+L26=B8,"OK","REVER") -> OK | D9: Analista de Recursos Humanos | F9: 1 | I9: Assistente Social | K9: 2
D10: Analista Departamento Pessoal | F10: 1 | I10: Auxiliar Farmácia | K10: 16
A11: Rotatividade de Funcionários | D11: Analista Financeiro | F11: 1 | I11: Biólogo | K11: 0
B12: Quantidade | D12: Assessora de Imprensa | F12: 1 | I12: Farmacêutico | K12: 6
A13: N° Admissões | B13: 12 | D13: Assistente Administrativo | F13: 1 | I13: Farmacêutico Bioquímica | K13: 5
A14: N° Demissões | B14: 10 | D14: Assistente Administrativo- Contabilidade | F14: 0 | I14: Farmacêutico- Ocologia | K14: 2
A15: N° Total de Funcionários (CLT) | B15: =B22+B31+B40+F73+K26 -> 439 | D15: Assistente administrativo -Manutenção | F15: 1 | I15: Farmacêutica Clinica | K15: 1
D16: Assistente Administrativo-Agendamento | F16: 0 | I16: Fisioterapeuta | K16: 7
A17: Médicos | D17: Assistente Administrativo-Almoxarifado | F17: 1 | I17: Fonoaudióloga | K17: 1
B18: Quantidade | D18: Assistente Administrativo-Faturamento | F18: 3 | I18: Imagenologia (Técnico em Radiologia) | K18: 13
A19: N° Total de Médicos | B19: =SUM(B20:B23) -> 103 | D19: Assistente Administrativo-Recepção | F19: 1 | I19: Nutricionista | K19: 1
A20: PJ | B20: 103 | D20: Assistente de Compras | F20: 1 | I20: Nutricionista Clinica | K20: 1
A21: Estatutários | B21: 0 | D21: Assistente de Diretoria | F21: 1 | I21: Psicóloga Hospitalar | K21: 2
A22: Celetistas | B22: 0 | D22: Auxiliar Administrativo - NIR | F22: 4 | I22: Psicologo | K22: 0
A23: Cedidos | B23: 0 | D23: Auxiliar Administrativo- FIN-FARM-IMAG. | F23: 2 | I23: CASO TENHA OUTROS INCLUIR ABAIXO:
D24: Auxiliar de Cozinha | F24: 7 | I24: BIOMÉDICO | K24: 4
D25: Auxiliar de Lavanderia | F25: 10
D26: Auxiliar de Limpeza | F26: 28 | I26: TOTAL | J26: =SUM(J9:J25) -> 0 | K26: =SUM(K9:K25) -> 61 | L26: =SUM(L9:L25) -> 0
A27: Nº de Enfermeiros | D27: Auxiliar de Limpeza-Jardinagem | F27: 1
B28: Quantidade | D28: Auxiliar de manutenção | F28: 1
A29: N° Total Enfermeiros | B29: =B30+B31+B32 -> 45 | D29: Camareira | F29: 1
A30: Estatutários | B30: 0 | D30: Comprador | F30: 1
A31: Celetistas | B31: 45 | D31: Coordenador SCIH | F31: 0
A32: Cedidos | B32: 0 | D32: Copeira Hospitalar | F32: 8
D33: Costureira | F33: 1
D34: Cozinheira Hospitalar | F34: 6
D35: Diretor Adjunto | F35: 1
A36: Nº de Profissionais Técnico de Enfermagem | D36: Diretor Apoio | F36: 0
B37: Quantidade | D37: Diretor Assistencial | F37: 0
A38: Nº Total Técnicos de Enfermagem | B38: 187 | D38: Diretor Geral | F38: 1
A39: Estatutários | B39: 0 | D39: Eletromecânico | F39: 2
A40: Celetistas | B40: 187 | D40: Engenheiro Civil | F40: 1
A41: Cedidos | B41: 0 | D41: Gerente de Recursos Humanos | F41: 1
D42: Gerente de Serviços Ambulatoriais | F42: 1
...

Sheet Fármacia
A1: Planilha - Indicadores de Farmácia Mensais
A3: Hospital: | B3: =Capa!D5 -> HOSPITAL REGIONAL TEREZINHA GAIO BASSO
A4: Mês/Ano: | B4: =Assistencial!B4 -> 46054
D5: *Essa listagem deverá ser a curva A da farmácia do HRTGB
A6: Recurso financeiro na aquisição de medicamentos | D6: Aquisição de medicamentos da Curva A
B7: Valor R$ | D7: Medicamento/Apresentação | E7: Nome Comercial | F7: Laboratório Fabricante | G7: Custo Unitário
A8: Recurso financeiro gasto com medicamentos não padronizados | B8: 2365.94 | D8: ABIRATERONA 250MG COMP | E8: GENÉRICO | F8: SUN FARMACEUTICA DO BRASIL LTDA | G8: 5.6
A9: Recurso financeiro gasto com medicamentos de rotina: | B9: 348586.86 | D9: ALBUMINA HUMANA 20% 50ML | E9: ALBUREX 20 | F9: CSL BEHRING COMERCIO DE PRODUTOS FARMACEUTICOS LTDA | G9: 110
D10: ALFAPORACTANTO 80MG/ML-3ML | E10: CUROSURF | F10: CHIESI FARMACEUTICA LTDA | G10: 1900
A11: Quantidade de medicamentos adquiridos (princípio ativo - PA) | D11: ALTEplase 50MG 1 F/A+DIL. 50ML | E11: ACTILYSE | F11: BOEHRINGER INGELHEIM DO BRASIL QUIMICA E FARMACEUTICA LTDA. - FILIAL 2 | G11: 2545
B12: Nº medicamentos (PA) | D12: AMPICILINA 2G + SULBACTAM 1G AMP. ( IV / IM ) | E12: - | F12: - | G12: -
A13: Medicamentos adquiridos não padronizados | B13: 7 | D13: BACILO DE CALMETTE-GUÉRIN(Imuno BCG) - 40MG | E13: URO HIPE | F13: UNO HEALTHCARE COMERCIO DE MEDICAMENTOS LTDA. | G13: 375
A14: Medicamentos adquiridos padronizados | B14: 210 | D14: BLEOMICINA 15UI - EV | E14: - | F14: - | G14: -
D15: CAPECITABINA 500mg - VO | E15: GENÉRICO | F15: SUN FARMACEUTICA DO BRASIL LTDA | G15: 1.47
A16: Medicamentos (unidade) com prazo de validade vencido | D16: CARBOplatina 450MG/45ML - EV | E16: - | F16: - | G16: -
A17: Considerar a somatória dos quantitativos de todos os medicamentos | D17: CARBOplatina 150 MG/15Ml - EV | E17: P-PLATIN | F17: BLAU FARMACEUTICA S.A. | G17: 94
B18: Nº medicamentos (UN) | D18: CeFAZolina 1G ( IV / IM ) AMP | E18: - | F18: - | G18: -
A19: Medicamentos vencidos | B19: 43 | D19: CETOPROFENO 100MG/100ML (PRONTO USO) | E19: - | F19: - | G19: -
A20: Medicamentos em estoque total | B20: 258820 | D20: CONTRASTE IODADO NÃO-IÔNICO DE BAIXA OSMOLARIDADE EQUIVALENTE A 300mg/mL DE IODO - Frasco 100mL | E20: OMNIPAQUE | F20: GE HEALTHCARE DO BRASIL COMERCIO E SERVICOS PARA EQUIPAMENTOS MEDICO-HOSPITALARES LTDA | G20: 149
D21: CREME BARREIRA 80G - PROTETOR DA PELE | E21: - | F21: - | G21: -
D22: DIETA ENTERAL ESPECIALIZADA COM ALTO TEOR CALÓRICO E PROTEICO 2KCAL/ML + 0,1G DE PROTEINA/ML - 500ML | E22: FRESUBIN 2.0 | F22: FRESENIUS KABI BRASIL LTDA. | G22: 75.59
D23: DIETA ENTERAL ESPECIALIZADA OLIGOMERICA 1.3KCAL + 0,067G DE PROTEINA/ML - 500ML | E23: OPD SURVIMED | F23: FRESENIUS KABI BRASIL LTDA. | G23: 70.59
D24: DIETA ENTERAL ESPECIALIZADA PARA DM - HIPERCALORICA E HIPERPROTEICA 1.5 KCAL/ML + 0,075G DE PROTEINA/ML - 1000ML | E24: DIBEM 1,5KCAL HP | F24: FRESENIUS KABI BRASIL LTDA. | G24: 70.2
D25: DIETA ENTERAL PADRÃO HIPERCALORICA E HIPERPROTEICA 1.5 KCAL/ML + 0,075G DE PROTEINA/ML - 1000ML | E25: HP ENERGY | F25: FRESENIUS KABI BRASIL LTDA. | G25: 64.17
D26: DIPIRONA 500MG/ML AMP. 2ML ( IV / IM ) | E26: DIPIFARMA | F26: FARMACE - INDUSTRIA QUIMICO-FARMACEUTICA CEARENSE LTDA | G26: 0.4
D27: ENOXAparina 40MG/0,4ML SER. ( IV / SC ) | E27: HEPTRIS | F27: VIATRIS BRASIL IMPORTADORA E DISTRIBUIDORA DE MEDICAMENTOS LTDA | G27: 9.6
D28: FentaNILA 0,05MG/ML AMP. 10ML ( IV / IM ) | E28: UNIFENTAL | F28: UNIAO QUIMICA FARMACEUTICA NACIONAL S A - FILIAL 9 | G28: 2.89
D29: FILGRASTIM 300MCG/0,5ml - SC SERINGA (PRONTO PRA USO) | E29: FIPRIMA | F29: EUROFARMA LABORATORIOS S.A. - FILIAL 16 | G29: 39.9
D30: FLUORURACILA 2500MG/50ML – EV | E30: FAULDFLUOR | F30: LIBBS FARMACEUTICA LTDA | G30: 91.26
D31: GENCITABINA 1000MG – EV | E31: GCIB | F31: CRISTALIA PRODUTOS QUIMICOS FARMACEUTICOS LTDA | G31: 68.25
D32: HEPArina 5.000UI/0,25ML AMP. 0,25ML ( SC ) | E32: - | F32: - | G32: -
D33: IRINOTECANO 100MG/5ML - EV | E33: GENÉRICO | F33: EUROFARMA LABORATORIOS S.A. - FILIAL 16 | G33: 34
D34: LEUCOVORIN (FOLINATO DE CÁLCIO) 300MG/30ML | E34: GENÉRICO | F34: EUROFARMA LABORATORIOS S.A. - FILIAL 16 | G34: 125
D35: LEUPRORRELINA 22,5MG SC - SERINGA C/ PÓ LIÓFILO E SERINGA C/ DILUENTE | E35: ELIGARD | F35: ADIUM S.A. | G35: 510.95
D36: MEROPENEM 1G AMP. ( IV ) | E36: - | F36: - | G36: -
D37: METILprednisolona 125MG AMP. ( IV / IM ) | E37: GENÉRICO | F37: UNIAO QUIMICA FARMACEUTICA NACIONAL S A - FILIAL 9 | G37: 9.9
D38: MIDAzolam 5MG/ML AMP. 10ML ( IV / IM / RETAL ) | E38: GENÉRICO | F38: HIPOLABOR FARMACEUTICA LTDA | G38: 2.75
D39: OCTREOTIDA 0,1MG/ML | E39: - | F39: - | G39: -
D40: OMEPRAZOL 40MG FR. ( IV ) | E40: GENÉRICO | F40: BLAU FARMACEUTICA S.A | G40: 6.05
D41: OXALiplatina 100MG/20ML - EV | E41: GENÉRICO | F41: BLAU FARMACEUTICA S.A. | G41: 65.81
...

Sheet Materiais
A1: Planilha - Indicadores de Materiais
A3: Hospital: | B3: =Assistencial!B3 -> HOSPITAL REGIONAL TEREZINHA GAIO BASSO
A4: Mês/Ano: | B4: =Assistencial!B4 -> 46054
D5: *Essa listagem deverá ser a curva A do almoxarifado do HRTGB
A6: Aquisição de materiais Técnico Hospitalares | D6: Preços de Aquisição de materiais hospitalares
B7: Valor R$ | D7: Material/Apresentação | E7: Lab. Fabricante | F7: Custo Unitário
A8: Recurso financeiro gasto com materiais não padronizados | B8: 0 | D8: AGULHA HUBER C/ DISPOSITIVO DE SEGURANÇA E LINHA DE INFUSAO 20Gx15mm P/ PUNÇÃO DE CATETER TOTALMENTE IMPLANTAVEL | E8: LABORATORIOS B BRAUN SA | F8: 42.95
A9: Recurso financeiro gasto com materiais de rotina: | B9: 168037.05 | D9: AGULHA HUBER C/ DISPOSITIVO DE SEGURANÇA E LINHA DE INFUSAO 20Gx20mm P/ PUNÇÃO DE CATETER TOTALMENTE IMPLANTAVEL | E9: - | F9: -
D10: AGULHA PARA ANESTESIA DE PLEXO REVESTIDA DE TEFLON | E10: - | F10: -
A11: Materiais Técnico Hospitalares (unidade) com prazo de validade vencido | D11: AVENTAL DESCARTAVEL MANGA LONGA 35G - PCT C/ 10 UNIDADES | E11: ALTERMED MATERIAL MEDICO HOSPITALAR LTDA | F11: 16.95
A12: Considerar a somatória dos quantitativos de todos os materiais | D12: BOMBA DE INFUSÃO ELASTOMERICA PORTATIL P/ TERAPIA DE INFUSÃO A CURTO E LONGO PRAZO CAPACIDADE P/ 270ML-5mL/hora- DESCARTÁVEL C/ POCHETE | E12: SAMTRONIC INDUSTRIA E COMERCIO LTDA | F12: 115
B13: Nº materiais (UN) | D13: CAMPO OPERATORIO ESTRELA 45X50 35G C/ FIO RADIOPACO - PCT C/50UN - NÃO ESTÉRIL | E13: CREMER | F13: 144.9
A14: Materiais vencidos | B14: 31 | D14: CANETA MONOPOLAR P/ ELETROCAUTÉRIO CONTROLE MANUAL - DESCARTÁVEL | E14: - | F14: -
A15: Materiais em estoque total | B15: 111674 | D15: CAPILAR - DIALISADOR P/ HEMODIALISE DE BAIXO FLUXO - SUPERFICIE EFETIVA (m²) 1.8 - HPS F8 | E15: - | F15: -
D16: CATETER INTRAV. PERIF. Nº 20 C/ DISP. DE SEGURANÇA | E16: QR CONSULTING, IMPORTACAO E DISTRIBUICAO DE PRODUTOS MEDICOS LTDA | F16: 2.21
A17: Mat. Hosp. adquiridos que não pertencem à padronização do hospital | D17: CATETER INTRAV. PERIF. Nº 22 C/ DISP. DE SEGURANÇA | E17: QR CONSULTING, IMPORTACAO E DISTRIBUICAO DE PRODUTOS MEDICOS LTDA | F17: 2.21
A18: Considerar a somatória dos quantitativos de todos os materiais | D18: CATETER TOTALMENTE IMPLANTÁVEL DE 8.5 FR X 80CM PARA INFUSÃO DE QUIMIOTERÁPICOS | E18: LABORATORIOS B BRAUN SA | F18: 907.8
B19: Nº materiais | D19: ELETRODO DESC. ADULTO | E19: - | F19: -
A20: Materiais adquiridos não padronizados | B20: 0 | D20: Equipo Bomba de Dieta Santronic - EQUIPO PARA BOMBA DE INFUSÃO SAMTRONIC ENTERAL S/FILTRO EI 0623 T000 | E20: SAMTRONIC INDUSTRIA E COMERCIO LTDA | F20: 17.6
A21: Materiais adquiridos padronizados total | B21: 145 | D21: Equipo Bomba Fotossensível Santronic - EQUIPO PARA BOMBA DE INFUSÃO SAMTRONIC S/FILTRO FOTO EI 0422 0000 | E21: SAMTRONIC INDUSTRIA E COMERCIO LTDA | F21: 22
D22: Equipo Bomba Normal Santronic - EQUIPO PARA BOMBA DE INFUSÃO SAMTRONIC S/FILTRO EI 0421 0000 | E22: SAMTRONIC INDUSTRIA E COMERCIO LTDA | F22: 21
D23: EQUIPO MACRO C/ENTRADA DE AR E INJ. LATERAL | E23: - | F23: -
D24: EXTENSOR PACIENTE COM ANTIRREFLUXO UMA VIA | E24: 1000MEDIC | F24: 11.09
D25: F.MONONYLON 3.0 C/A P1663T | E25: JOHNSON | F25: 12.08
D26: F.VICRYL 1 C/A J535H | E26: - | F26: -
D27: FITA MICROPORE 5,0CMX10MT | E27: CREMER | F27: 4.5
D28: FRALDA GERIATRICA TAMANHO EG | E28: FORTSEC INDUSTRIA & COMERCIO DE PRODUTOS DE HIGIENE LTDA | F28: 1.27
D29: GAZE 10X10 13FIOS C/10UNID ESTERIL | E29: CREMER | F29: 1.99
D30: GAZE 7,5X7,5 11FIOS C/10UNID. ESTERIL | E30: CREMER | F30: 0.9
D31: KIT SERINGA ANGIOGRÁFICA COM 2 SERINGAS DE 200ml + 2 “J” + 1 tubo (duas vias) PARA BOMBA INJETORA SINO POWER D | E31: 1000MEDIC | F31: 129
D32: LUVA PROCED. MÉDIA NITRÍLICA SEM PÓ | E32: MEDIX | F32: 12.94
D33: LUVA PROCED. PEQUENA NITRÍLICA SEM PÓ | E33: MEDIX | F33: 13.25
D34: LUVA PROCEDIMENTO PEQUENA COM PÓ - CX/100UNID | E34: MEDIX | F34: 17.5
D35: SERINGA DESCARTAVEL 10 ML S/ AGULHA - SLIP S/DISPOSITIVO – C/ GRADUAÇÃO POR ML | E35: DESCARPACK | F35: 0.22
D36: SERINGA DESCARTAVEL 20 ML S/ AGULHA - SLIP S/DISPOSITIVO | E36: INJEX | F36: 0.32
D37: SERINGA DESCARTAVEL 60 ML S/ AGULHA - BICO LUER LOCK - S/DISPOSITIVO | E37: BD | F37: 9.65
D38: TIRAS P/ HGT | E38: - | F38: -

Sheet Financeiro
A1: Planilha - Financeira Mensal
A3: UNIDADE
A4: =Assistencial!B3 -> HOSPITAL REGIONAL TEREZINHA GAIO BASSO
A6: Mês/Ano:
A7: =Assistencial!B4 -> 46054
A9: DESCRIÇÃO | B9: =A7 -> 46054
A10: RECEITAS OPERACIONAIS | B10: R$
A11: Repasse Contrato de Gestão (Valor de custeio bruto) | B11: 5561424
A12: Repasse Contrato de Gestão - Retenção de Investimento (caso ocorra) | B12: 0
A13: Repasse Programas Especiais | B13: 0
A14: Desconto (Meta Não Atingida) | B14: 0
A15: Glosa de Recurso (Desconto) | B15: 0
A16: TOTAL REPASSES (Receita Líquida recebida da SES) | B16: =B11+B12+B13-B14-B15 -> 5561424
A17: Resultado de Aplicação Financeira | B17: 155592.13
A18: Reembolso de Despesas | B18: 0
A19: Obtenção de Recursos Externos a SES | B19: 0
A20: Demais Receitas (Convênios) | B20: 0
A21: Receitas Extras | B21: =1045+13192.55+97763.81 -> 112001.36
A22: Outras Receitas | B22: 54.31
A23: TOTAL OUTRAS RECEITAS | B23: =SUM(B17:B22) -> 267647.8
A24: TOTAL DE RECEITAS OPERACIONAIS | B24: =B23+B16 -> 5829071.8
A26: =A9 -> DESCRIÇÃO | B26: =B9 -> 46054
A27: DESPESAS OPERACIONAIS | B27: R$
A28: 1. Pessoal | B28: =SUM(B30:B39) -> 2154731.8
A29: 1.1. Ordenados (Não inclui férias, 13º e Rescisão) | B29: =SUM(B30:B31) -> 1704467.8
A30: 1.1.1. Assistencial | B30: =1720407.6-29395.12+13455.31 -> 1704467.8
A31: 1.1.2. Administrativo | B31: 0
A32: 1.2. INSS do Empregador | B32: 0
A33: 1.3. FGTS | B33: =181720.59-20914.24 -> 160806.35
A34: 1.4. PIS | B34: 0
A35: 1.5. Benefícios | B35: 0
A36: 1.6. Provisões (Férias) - Retenções | B36: =179669.61-26490.77 -> 153178.84
A37: 1.7. Provisões (13º sal) - Retenções | B37: =136586.22-307.4 -> 136278.82
A38: 1.8. Provisões (Rescisões) - Retenções | B38: 0
A39: 1.9. Despesas Judiciais Trabalhistas | B39: 0
A40: 2. Insumos Assistenciais | B40: =SUM(B41:B45) -> 833591.84
A41: 2.1. Materiais Descartáveis | B41: =66902.52-0.02+185006.92-3181.96+22928.8 -> 271656.26
A42: 2.2. Medicamentos | B42: =291525.16-347.21+180613.68-B43 -> 446571.18
A43: 2.3. Dietas Industrializadas | B43: 25220.45
A44: 2.4. Gases Medicinais | B44: 19055.52
...
