Workbook
Name ValidDepts: Ambulatorio!#REF!
Name ValidDepts: Assistencial!#REF!
Name ValidDepts: SADT!#REF!
Name ValidDepts: 'Urgência Emergência'!#REF!
Name ValidDepts: #REF!

Sheet Capa
A3: ORGANIZAÇÃO SOCIAL: | D3: INSTITUTO SANTE
A5: HOSPITAL: | D5: HOSPITAL REGIONAL TEREZINHA GAIO BASSO
B13: SUPERVISÃO E ACOMPANHAMENTO DA EXECUÇÃO DO CONTRATO DE GESTÃO nº 07/2023
A21: ABRIL
A29: SÃO MIGUEL DO OESTE/SC, 15 DE MAIO DE 2026

Sheet Leitos
A1: Planilha - Atividade Assistencial Hospitalar - Mensal
A3: Hospital: | B3: HOSPITAL REGIONAL TEREZINHA GAIO BASSO
A4: Mês/Ano: | B4: 46113
A6: 1 Leitos
A7: Clinicas | B7: Leito Existente | C7: Leito Desativado | D7: Leito Bloqueado | E7: Leito Extra
A8: =Assistencial!A8 -> 1. Clínica Cirúrgica | B8: 35 | C8: 0 | D8: 0 | E8: 0
A9: =Assistencial!A9 -> 2. Clínica Médica | B9: 34 | C9: 0 | D9: 0 | E9: 0
A10: =Assistencial!A10 -> 3. Oncologia Clínica | B10: 0 | C10: 0 | D10: 0 | E10: 0
A11: =Assistencial!A11 -> 4. Oncologia Cirúrgica | B11: 0 | C11: 0 | D11: 0 | E11: 0
A12: =Assistencial!A12 -> 5. Clínica Gineco/Obstétrica | B12: 7 | C12: 0 | D12: 0 | E12: 0
A13: =Assistencial!A13 -> 6. Clínica Pediátrica | B13: 6 | C13: 0 | D13: 0 | E13: 0
A14: =Assistencial!A14 -> 7. UTI Adulto | B14: 10 | C14: 0 | D14: 0 | E14: 0
A15: Total | B15: =SUM(B8:B14) -> 92 | C15: =SUM(C8:C14) -> 0 | D15: =SUM(D8:D14) -> 0 | E15: =SUM(E8:E14) -> 0
A18: 2. Leitos CNES 6683134
A19: COMPLEMENTAR
A20: UTI ADULTO - TIPO II | C20: 10
A21: ESPEC - CIRURGICO
A22: BUCO MAXILO FACIAL | C22: 1
A23: CIRURGIA GERAL | C23: 17
A24: GINECOLOGIA | C24: 1
A25: NEFROLOGIA / UROLOGIA | C25: 2
A26: NEUROCIRURGIA | C26: 2
A27: OFTALMOLOGIA | C27: 1
A28: ORTOPEDIA / TRAUMATOLOGIA | C28: 10
A29: OTORRINOLARINGOLOGIA | C29: 1
A30: ESPEC - CLINICO
A31: CARDIOLOGIA | C31: 2
A32: CLINICA GERAL | C32: 20
A33: NEFRO / UROLOGIA | C33: 3
A34: NEUROLOGIA | C34: 2
A35: ONCOLOGIA | C35: 2
A36: PNEUMOLOGIA | C36: 5
A37: OBSTETRICO
A38: OBSTETRICIA CIRURGICA | C38: 5
A39: OBSTETRICIA CLINICA | C39: 2
A40: PEDIATRICO
A41: PEDIATRIA CLINICA | C41: 6
A42: TOTAL | C42: =SUM(C19:C41) -> 92
C43: =IF(C42+C15+D15+E15=B15,"ok","rever") -> ok

Sheet Urgência Emergência
A1: Planilha - Atividade Assistencial - Mensal
A3: Hospital: | B3: HOSPITAL REGIONAL TEREZINHA GAIO BASSO
A4: Mês/Ano: | B4: 46113
A6: 1. ATENDIMENTO DE URGÊNCIA E EMERGÊNCIA
F7: Quantidade
A8: 1. Atendimento de Urgência e Emergência em Atenção Especializada | F8: 2535
A9: 2. Cirurgias de Urgência e Emergência | F9: 363
A10: Total | F10: =SUM(F8:F9) -> 2898
A11: *CG, PAG 39, 1.5.3. A EXECUTORA deverá enviar mensalmente até o 15º dia subsequente ao mês de produção, as seguintes informações: o quantitativo de atendimentos de Urgência/Emergência, escala de serviço médico e de enfermagem da EMG, escala de sobreaviso das especialidades, Relatório do Sistema de Gestão Hospitalar com o número de atendimentos conforme a Classificação de Risco.

Sheet Assistencial
A1: Planilha - Atividade Assistencial Hospitalar - Mensal
A3: Hospital: | B3: HOSPITAL REGIONAL TEREZINHA GAIO BASSO | G3: CNES: | H3: 6683134
A4: Mês/Ano: | B4: 46113
A6: 1. ASSISTÊNCIA HOSPITALAR - INTERNAÇÃO
A7: Clinicas | B7: Altas | C7: Transferências Externas | D7: Óbitos < 24hs | E7: Óbitos >= 24hs | F7: Saídas Hospitalares | G7: Transferências Internas (UTI) | H7: Leitos Operacionais Dia | I7: Pacientes - Dia
A8: 1. Clínica Cirúrgica | B8: =216-C8-D8-E8 -> 208 | C8: 7 | D8: 0 | E8: 1 | F8: =SUM(B8:E8) -> 216 | G8: - | H8: 780 | I8: 644
A9: 2. Clínica Médica | B9: =210-C9-D9-E9 -> 172 | C9: 29 | D9: 7 | E9: 2 | F9: =SUM(B9:E9) -> 210 | G9: - | H9: 840 | I9: 795
A10: 3. Oncologia Clínica | B10: =11-C10-D10-E10 -> 2 | C10: 0 | D10: 0 | E10: 9 | F10: =SUM(B10:E10) -> 11 | G10: - | H10: 142 | I10: 102
A11: 4. Oncologia Cirúrgica | B11: =80-C11-D11-E11 -> 80 | C11: 0 | D11: 0 | E11: 0 | F11: =SUM(B11:E11) -> 80 | G11: - | H11: 310 | I11: 225
A12: 5. Clínica Gineco/Obstétrica | B12: =87-C12-D12-E12 -> 85 | C12: 2 | D12: 0 | E12: 0 | F12: =SUM(B12:E12) -> 87 | G12: - | H12: 270 | I12: 182
A13: 6. Clínica Pediátrica | B13: =40-C13-D13-E13 -> 37 | C13: 2 | D13: 0 | E13: 1 | F13: =SUM(B13:E13) -> 40 | G13: - | H13: 180 | I13: 143
A14: 7. UTI Adulto | B14: - | C14: 0 | D14: 1 | E14: 7 | F14: =SUM(B14:E14) -> 8 | G14: 39 | H14: 300 | I14: 281
A15: Total | B15: =SUM(B8:B13) -> 584 | C15: =SUM(C8:C14) -> 40 | D15: =SUM(D8:D14) -> 8 | E15: =SUM(E8:E14) -> 20 | F15: =SUM(F8:F14) -> 652 | H15: =SUM(H8:H14) -> 2822 | I15: =SUM(I8:I14) -> 2372
A16: C.G., PAG. 39, 1.6.2. Para fins de aferição de meta serão consideradas as Saídas Hospitalares ocorridas entre o dia 1º a 30/31 de cada mês, tendo como parâmetro o dia de saída do paciente do Hospital.
A17: 1.1 Saídas das UTIs por Clínica (Transf. Externas + Óbitos) | D17: 1.2 Transf. Internas das UTIs por Clínica
A18: Clinicas | B18: N° Saídas | D18: Clinicas | E18: N° Transferências
A19: =A8 -> 1. Clínica Cirúrgica | B19: 3 | D19: =A19 -> 1. Clínica Cirúrgica | E19: 11
A20: =A9 -> 2. Clínica Médica | B20: 5 | D20: =A20 -> 2. Clínica Médica | E20: 24
A21: =A10 -> 3. Oncologia Clínica | B21: 0 | D21: =A21 -> 3. Oncologia Clínica | E21: 0
A22: =A11 -> 4. Oncologia Cirúrgica | B22: 0 | D22: =A22 -> 4. Oncologia Cirúrgica | E22: 4
A23: =A12 -> 5. Clínica Gineco/Obstétrica | B23: 0 | D23: =A23 -> 5. Clínica Gineco/Obstétrica | E23: 0
A24: =A13 -> 6. Clínica Pediátrica | B24: 0 | D24: =A24 -> 6. Clínica Pediátrica | E24: 0
A25: 7. Outra Unidade Hospitalar | B25: 0 | D25: Total | E25: =SUM(E19:E24) -> 39
A26: Total | B26: =SUM(B19:B25) -> 8 | E26: =IF(E25=G14,"OK","REVER") -> OK
B27: =IF(B26=F14,"OK","REVER") -> OK
A29: 1.3 Clínicas | B29: Número de Saídas Hospitalares | D29: Bases para o cálculo do número de saídas
B30: Média Mensal | C30: % Total | D30: Leitos Operacionais | E30: Permanência Média | F30: Taxa de Ocupação
A31: =A8 -> 1. Clínica Cirúrgica | B31: =F8 -> 216 | C31: =B31/$B$38 -> 0.33128834 | D31: =H8 -> 780 | E31: =I8/F8 -> 2.9814815 | F31: =I8/H8 -> 0.82564103
A32: =A9 -> 2. Clínica Médica | B32: =F9 -> 210 | C32: =B32/$B$38 -> 0.32208589 | D32: =H9 -> 840 | E32: =I9/F9 -> 3.7857143 | F32: =I9/H9 -> 0.94642857
A33: =A10 -> 3. Oncologia Clínica | B33: =F10 -> 11 | C33: =B33/$B$38 -> 0.016871166 | D33: =H10 -> 142 | E33: =I10/F10 -> 9.2727273 | F33: =I10/H10 -> 0.71830986
A34: =A11 -> 4. Oncologia Cirúrgica | B34: =F11 -> 80 | C34: =B34/$B$38 -> 0.12269939 | D34: =H11 -> 310 | E34: =I11/F11 -> 2.8125 | F34: =I11/H11 -> 0.72580645
A35: =A12 -> 5. Clínica Gineco/Obstétrica | B35: =F12 -> 87 | C35: =B35/$B$38 -> 0.13343558 | D35: =H12 -> 270 | E35: =I12/F12 -> 2.091954 | F35: =I12/H12 -> 0.67407407
A36: =A13 -> 6. Clínica Pediátrica | B36: =F13 -> 40 | C36: =B36/$B$38 -> 0.061349693 | D36: =H13 -> 180 | E36: =I13/F13 -> 3.575 | F36: =I13/H13 -> 0.79444444
A37: =A14 -> 7. UTI Adulto | B37: =F14 -> 8 | C37: =B37/$B$38 -> 0.012269939 | D37: =H14 -> 300 | E37: =I14/(G14+F14) -> 5.9787234 | F37: =I14/H14 -> 0.93666667
A38: Total | B38: =SUM(B31:B37) -> 652 | C38: =B38/$B$38 -> 1 | D38: =SUM(D31:D37) -> 2822 | E38: =AVERAGE(E31:E37) -> 4.3568715 | F38: =I15/H15 -> 0.84053863

Sheet Ambulatorio
A1: Planilha - Atividade Assistencial Ambulatorial - Mensal
A3: Hospital: | B3: HOSPITAL REGIONAL TEREZINHA GAIO BASSO
A4: Mês/Ano: | B4: 46113
A6: 1. ATENDIMENTO AMBULATORIAL
A7: 1.1 Consultas Médicas
A8: Especialidade | B8: Primeiras Consultas (TCGA, Agenda Interna e Regulação**) | C8: Interconsulta | D8: Consulta Subsequente | E8: Total
A9: Anestesiologia | B9: 1 | C9: 0 | D9: 112 | E9: =SUM(B9:D9) -> 113
A10: Cardiologia | B10: 94 | C10: 0 | D10: 103 | E10: =SUM(B10:D10) -> 197
A11: Cirurgia Geral | B11: 29 | C11: 0 | D11: 161 | E11: =SUM(B11:D11) -> 190
A12: Cirurgia Vascular | B12: 63 | C12: 0 | D12: 87 | E12: =SUM(B12:D12) -> 150
A13: Clínica Médica Geral | B13: 0 | C13: 0 | D13: 12 | E13: =SUM(B13:D13) -> 12
A14: Gastroenterologia | B14: 12 | C14: 0 | D14: 55 | E14: =SUM(B14:D14) -> 67
A15: Ginecologia/obstetrícia | B15: 39 | C15: 0 | D15: 28 | E15: =SUM(B15:D15) -> 67
A16: Hepatologia | B16: 8 | C16: 0 | D16: 26 | E16: =SUM(B16:D16) -> 34
A17: Infectologia | B17: 0 | C17: 0 | D17: 71 | E17: =SUM(B17:D17) -> 71
A18: Mastologia | B18: 26 | C18: 0 | D18: 7 | E18: =SUM(B18:D18) -> 33
A19: Neurocirurgia | B19: 0 | C19: 0 | D19: 15 | E19: =SUM(B19:D19) -> 15
A20: Neurologia | B20: 16 | C20: 0 | D20: 69 | E20: =SUM(B20:D20) -> 85
... A30: Urologia | B30: 53 | C30: 0 | D30: 37 | E30: =SUM(B30:D30) -> 90
A31: Total | B31: =SUM(B9:B30) -> 998 | C31: =SUM(C9:C30) -> 0 | D31: =SUM(D9:D30) -> 2706 | E31: =SUM(E9:E30) -> 3704
A33: 1.2 Procedimentos Ambulatoriais
A34: Especialidade | B34: Realizado Regulação** | C34: Agenda Interna | D34: Total
A35: Procedimentos Oftalmológicos (fotocoagulação a laser, outros...) | B35: 13 | C35: 4 | D35: =SUM(B35:C35) -> 17
A36: Procedimentos de Quimioterapia (nº de sessões) | B36: - | C36: 544 | D36: =SUM(B36:C36) -> 544
A37: Total | B37: =SUM(B35:B36) -> 13 | C37: =SUM(C35:C36) -> 548 | D37: =SUM(D35:D36) -> 561
A39: 1.3 Consultas não médicas
A40: Especialidade | B40: =B34 -> Realizado Regulação** | C40: =C34 -> Agenda Interna | D40: Total
A41: Bucomaxilofacial | B41: 3 | C41: 10 | D41: =SUM(B41:C41) -> 13
A42: Fonoaudiologia | B42: - | C42: 147 | D42: =SUM(B42:C42) -> 147
A43: Nutrição Clínica | B43: - | C43: 18 | D43: =SUM(B43:C43) -> 18
A44: Psicologia | B44: - | C44: 229 | D44: =SUM(B44:C44) -> 229
A45: Total | B45: =SUM(B41:B44) -> 3 | C45: =SUM(C41:C44) -> 404 | D45: =SUM(D41:D44) -> 407
A47: 2. ATENDIMENTO AMBULATORIAL - REGULAÇÃO
A48: 2.1 Consultas Médicas disponibilizadas para a Central de Regulação Ambulatorial
A50: Especialidade | B50: Nº de Consultas disponibilizadas para Regulação | C50: Nº de Consultas agendadas com os pacientes oriundos da Regulação | D50: Nº de Consultas Realizadas com os pacientes oriundos da Regulação** | E50: Nº de Pacientes Faltantes oriundos do agendamento da Regulação
A51: Cardiologia | B51: 120 | C51: 104 | D51: 94 | E51: =C51-D51 -> 10
A52: Cirurgia Geral | B52: 53 | C52: 34 | D52: 29 | E52: =C52-D52 -> 5
A53: Cirurgia Vascular | B53: 115 | C53: 114 | D53: 63 | E53: =C53-D53 -> 51
A54: Gastroenterologia | B54: 14 | C54: 12 | D54: 12 | E54: =C54-D54 -> 0
A55: Ginecologia/obstetrícia | B55: 79 | C55: 45 | D55: 38 | E55: =C55-D55 -> 7
...

Sheet SADT
A1: Planilha - Atividade Assistencial - Mensal
A3: Hospital: | B3: HOSPITAL REGIONAL TEREZINHA GAIO BASSO
A4: Mês/Ano: | B4: 46113
A6: 1.SERVIÇOS DE APOIO DIAGNÓSTICO E TERAPÊUTICO - EXTERNO REALIZADO
B7: Realizado Regulação** | C7: Agenda Interna Hospital + TCGA | D7: Total / Meta Mês
A8: Colonoscopia | B8: 76 | C8: 18 | D8: =SUM(B8:C8) -> 94
A9: Endoscopia | B9: 190 | C9: 11 | D9: =SUM(B9:C9) -> 201
A10: Exames de Anatomia Patológica | B10: 0 | C10: 1185 | D10: =SUM(B10:C10) -> 1185
A11: Mamografia | B11: 161 | C11: 28 | D11: =SUM(B11:C11) -> 189
A12: Radiologia | B12: 816 | C12: 451 | D12: =SUM(B12:C12) -> 1267
A13: Retinografia Colorida Binocular | B13: 4 | C13: 0 | D13: =SUM(B13:C13) -> 4
A14: Tomografia/Angiotomografia | B14: 58 | C14: 326 | D14: =SUM(B14:C14) -> 384
A15: Ultrassonografia | B15: 301 | C15: 179 | D15: =SUM(B15:C15) -> 480
A16: Total | B16: =SUM(B8:B15) -> 1606 | C16: =SUM(C8:C15) -> 2198 | D16: =SUM(D8:D15) -> 3804
A17: 1.8.4. Para fins de aferição de meta serão considerados exames externos os atendimentos realizados em caráter eletivo, ocorridos entre o dia 1º a 30/31 de cada mês, tendo como parâmetro o dia em que o paciente realizou o exame no Hospital. Esta meta será acompanhada através do Sistema de Informações Ambulatoriais.
A19: 2. SADT Externo - Regulação
A20: Especialidade | C20: Nº de exames disponibilizadas para Regulação | D20: Nº de exames agendadas com os pacientes oriundos da Regulação | E20: Nº de exames Realizadas com pacientes oriundos da Regulação** | F20: Nº de Pacientes Faltantes oriundos do agendamento da Regulação
A22: =A8 -> Colonoscopia | C22: 110 | D22: 92 | E22: 76 | F22: =D22-E22 -> 16
A23: =A9 -> Endoscopia | C23: 234 | D23: 210 | E23: 190 | F23: =D23-E23 -> 20
A24: =A10 -> Exames de Anatomia Patológica | C24: 0 | D24: 0 | E24: 0 | F24: =D24-E24 -> 0
A25: =A11 -> Mamografia | C25: 220 | D25: 207 | E25: 161 | F25: =D25-E25 -> 46
A26: =A12 -> Radiologia | C26: 953 | D26: 949 | E26: 816 | F26: =D26-E26 -> 133
A27: =A13 -> Retinografia Colorida Binocular | C27: 6 | D27: 6 | E27: 4 | F27: =D27-E27 -> 2
A28: =A14 -> Tomografia/Angiotomografia | C28: 120 | D28: 70 | E28: 58 | F28: =D28-E28 -> 12
A29: =A15 -> Ultrassonografia | C29: 520 | D29: 362 | E29: 301 | F29: =D29-E29 -> 61
A30: =A16 -> Total | C30: =SUM(C22:C29) -> 2163 | D30: =SUM(D22:D29) -> 1896 | E30: =SUM(E22:E29) -> 1606 | F30: =SUM(F22:F29) -> 290
A32: 3. Exames Internos - Internação
D33: Nº Exames
A34: Eletrocardiograma | D34: 0
A35: Exames Anatomopatológicos | D35: 356
A36: Exames de Colonoscopia | D36: 8
A37: Exames de Endoscopia | D37: 15
A38: Exames de Mamografia | D38: 0
A39: Exames de Radiologia | D39: 326
A40: Exames de Tomografias | D40: 136
A41: Exames de Ultrassom | D41: 133
A42: Exames Laboratoriais | D42: 5690
A43: Total | D43: =SUM(D34:D42) -> 6664
A45: 4. Exames Internos - Urgência e Emergência
D46: Nº Exames
...

Sheet Atividade Cirúrgica
A1: Planilha - Atividade Assistencial Hospitalar - Mensais
A3: Hospital: | B3: HOSPITAL REGIONAL TEREZINHA GAIO BASSO
A4: Mês/Ano: | B4: 46113
A6: 1. Cirurgias
C7: Quantidade
A8: a) Cirurgias de Média Complexidade | C8: =C145 -> 406
A9: b) Cirurgias de Alta Complexidade | C9: =C175 -> 84
A10: Nº Total de Cirurgias | C10: =SUM(C8:C9) -> 490
A12: 2. Atividade Cirúrgica
C13: Quantidade
A14: Eletiva* | C14: 127
A15: Urgência | C15: 363
A16: Nº Total de Cirurgias | C16: =SUM(C14:C15) -> 490 | D16: =IF(C16=C10,"ok","rever") -> ok
A17: *CG, PAG. 33, 21.1.1. O Hospital deverá destinar, no mínimo 15% (quinze por cento), do volume total de cirurgias realizadas no mês, aos pacientes eletivos, em lista de espera, encaminhados pela Central de Regulação de Internações Hospitalares (drive cirúrgico).
A19: 2.2. Indicadores da Atividade Cirúrgica
C20: Quantidade
A21: Taxa de Cirurgias Eletivas | C21: =C14/C16 -> 0.25918367
A22: Taxa de Cirurgias de Urgência | C22: =C15/C16 -> 0.74081633
A24: 3. Salas Cirúrgicas
C25: Quantidade
A26: N° Salas Cirúrgicas Operacionais/Dia | C26: 4
A29: 4. Cirurgias de Média Complexidade
A30: Código | B30: Nome do procedimento realizado | C30: Quantidade
A31: 03.10.01.003-9 | B31: PARTO NORMAL | C31: 35
A32: 04.11.01.003-4 | B32: OPERACAO CESARIANA | C32: 27
A33: 04.07.04.018-8 | B33: LIBERAÇÃO DE ADERÊNCIAS INTESTINAIS | C33: 23
A34: 04.07.04.025-0 | B34: TRATAMENTO CIRÚRGICO DE PERITONITE | C34: 20
A35: 04.07.02.003-9 | B35: APENDICECTOMIA | C35: 16
A36: 04.08.02.043-1 | B36: TRATAMENTO CIRÚRGICO DE FRATURA DIAFISARIA ÚNICA DO RÁDIO / DA ULNA | C36: 14
A37: 04.08.02.034-2 | B37: TRATAMENTO CIRÚRGICO DE FRATURA / LESÃO FISARIA DAS FALANGES DA MÃO (COM FIXAÇÃO) | C37: 10
A38: 04.01.02.005-3 | B38: EXCISÃO E SUTURA DE LESAO NA PELE C/ PLÁSTICA EM Z OU ROTAÇÃO DE RETALHO | C38: 9
A39: 04.07.03.003-4 | B39: COLECISTECTOMIA VIDEOLAPAROSCÓPICA | C39: 9
A40: 04.08.05.048-9 | B40: TRATAMENTO CIRURGICO DE FRATURA / LESAO FISARIA PROXIMAL (COLO) DO FEMUR (SINTESE) | C40: 9
A41: 04.12.05.017-0 | B41: TORACOCENTESE/DRENAGEM DE PLEURA | C41: 8
A42: 02.09.02.001-6 | B42: CISTOSCOPIA E/OU URETEROSCOPIA E/OU URETROSCOPIA | C42: 7
... A144: 04.17.01.004-4 | B144: ANESTESIA GERAL | C144: 1
A145: Nº Total de Cirurgias de Média Complexidade | C145: =SUM(C31:C144) -> 406
A147: 5. Cirurgias de Alta Complexidade
A148: Código | B148: Nome do procedimento realizado | C148: Quantidade
A149: 04.16.08.003-0 | B149: EXCISÃO E SUTURA DE LESÃO NA PELE COM PLASTICA EM Z OU ROTAÇÃO DE RETALHO EM ONCOLOGIA | C149: 36
...

Sheet Qualidade
A1: Planilha - Indicadores de Qualidade Mensais
A3: Hospital: | B3: =Capa!D5
A4: Mês/Ano: | B4: =Assistencial!B4 -> 46113
A6: 1. Apresentação de Autorização de Internação Hospitalar (AIH) | C6: Quantidade
A7: Nº de AIH’s apresentadas à GMAPS | C7: 654
A8: Nº de Saídas Hospitalares informadas pelo Hospital no mês | C8: =B29 -> 652
A10: 2. Controle de Infecção Hospitalar
B11: N° Infecção Geral Hospitalar | D11: Taxa Infecção geral hospitalar
B12: 8 | D12: =B12/B29 -> 0.012269939
B14: 2.1 Controle de Infecção Hospitalar - UTI Adulto
B15: N° Infecções Hospitalares | C15: N° Infecções Corrente Sang. em Pac. com CVC | D15: N° Pac./Dia com CVC | E15: Nº de Pneumonias em Pacientes com Vent. Mecânica | F15: Nº de Pac./Dia com Ventilação Mecânica
B16: 4 | C16: 1 | D16: 221 | E16: 0 | F16: 94
B18: 2.3 Controle de Infecção Hospitalar - UTI Adulto
B19: DIH UTI | C19: DIIH CVC UTI | D19: Taxa VM UTI
B20: =B16/Assistencial!I14*1000 -> 14.234875 | C20: =C16/D16*1000 -> 4.5248869 | D20: =F16/Assistencial!I14 -> 0.33451957
A21: CG, PAG.46, 2.7.3. O cumprimento da meta está relacionado ao envio do relatório mensal, elaborado pelo Serviço de Controle de Infecção Hospitalar da unidade, que contenha o valor dos indicadores mensais, a análise dos resultados com o comparativo de referência (utilizado pelo Serviço de Controle de Infecção Hospitalar do hospital) e o plano de ação com as medidas de correção e controle, quando se fizerem necessárias. O Relatório deverá estar assinado pelo enfermeiro e médico infectologista do serviço.
A24: 3. Mortalidade | D24: 3.3 Mortalidade Operatória por ASA
B25: Quantidade | E25: Nº de Pacientes Operados | F25: Nº de Óbitos até 7 Dias | G25: Taxa de Mortalidade Operatória | H25: Nº de Cirurgias de Urgência | I25: Taxa de Cirurgias de Urgência por ASA
A26: Nº de óbitos ≥ 24hs de internação no mês (N° Óbitos Institucionais) | B26: 20 | D26: Avaliação Anestésica ASA 1 | E26: 138 | F26: 0 | G26: =F26/E26 -> 0 | H26: 123 | I26: =H26/H32 -> 0.33884298
A27: N° Óbitos até 7 Dias após Proc. Cirúrgico | B27: 4 | D27: Avaliação Anestésica ASA 2 | E27: 191 | F27: 0 | G27: =F27/E27 -> 0 | H27: 176 | I27: =H27/H32 -> 0.48484848
A28: N° Total Pacientes Operados | B28: 396 | D28: Avaliação Anestésica ASA 3 | E28: 64 | F28: 2 | G28: =F28/E28 -> 0.03125 | H28: 61 | I28: =H28/H32 -> 0.16804408
A29: Nº Total de Saídas Hospitalares | B29: =Assistencial!F15 -> 652 | D29: Avaliação Anestésica ASA 4 | E29: 3 | F29: 2 | G29: =F29/E29 -> 0.66666667 | H29: 3 | I29: =H29/H32 -> 0.0082644628
D30: Avaliação Anestésica ASA 5 | E30: 0 | F30: 0 | G30: 0 | H30: 0 | I30: =H30/H32 -> 0
A31: 3.1 Indicadores Mortalidade Operatória (TMO) | D31: Avaliação Anestésica ASA 6 | E31: 0 | F31: - | G31: - | H31: - | I31: -
B32: % | D32: Total | E32: =SUM(E26:E31) -> 396 | F32: =SUM(F26:F30) -> 4 | G32: =SUM(G26:G30) -> 0.69791667 | H32: =SUM(H26:H30) -> 363 | I32: =SUM(I26:I30) -> 1
A33: Taxa de Mortalidade Operatória | B33: =B27/B28 -> 0.01010101 | D33: C.G., PAG. 47, 2.8.6. O cumprimento da meta está relacionado ao envio do relatório / ata mensal, elaborado pela Comissão de Óbito do Hospital, com a análise dos resultados da TMO e TM, com o comparativo de referência, devidamente assinado pelos seus membros.
A35: 3.2 Indicadores Mortalidade Institucional (TM)
B36: %
A37: Taxa de Mortalidade Institucional | B37: =(B26/B29) -> 0.030674847
A39: 3.4 Mortalidade Intra-Hospitalar Neonatal
B40: Nascidos Vivos | C40: Apgar 1 min >= 7 | D40: Apgar 5 min >= 7 | E40: Nascidos Mortos | F40: Óbitos 0-6 dias | G40: Óbitos 7-28 dias | H40: Óbitos 29 dias e +
A41: < 500g | B41: 0 | C41: 0 | D41: 0 | E41: 0 | F41: 0 | G41: 0 | H41: 0
A42: 500 - 749g | B42: 0 | C42: 0 | D42: 0 | E42: 0 | F42: 0 | G42: 0 | H42: 0
A43: 750 - 999g | B43: 0 | C43: 0 | D43: 0 | E43: 0 | F43: 0 | G43: 0 | H43: 0
A44: 1000 - 1249g | B44: 0 | C44: 0 | D44: 0 | E44: 0 | F44: 0 | G44: 0 | H44: 0
A45: 1250 - 1499g | B45: 0 | C45: 0 | D45: 0 | E45: 0 | F45: 0 | G45: 0 | H45: 0
A46: 1500 - 1749g | B46: 0 | C46: 0 | D46: 0 | E46: 0 | F46: 0 | G46: 0 | H46: 0
A47: 1750 - 1999g | B47: 0 | C47: 0 | D47: 0 | E47: 0 | F47: 0 | G47: 0 | H47: 0
A48: 2000-2249g | B48: 0 | C48: 0 | D48: 0 | E48: 0 | F48: 0 | G48: 0 | H48: 0
A49: 2250 - 2499g | B49: 0 | C49: 0 | D49: 0 | E49: 0 | F49: 0 | G49: 0 | H49: 0
...

Sheet Qualidade PSU
A1: Planilha - Indicadores de Qualidade Mensais - Pesquisa de Satisfação
A3: Hospital: | B3: =Capa!D5 -> HOSPITAL REGIONAL TEREZINHA GAIO BASSO
A4: Mês/Ano: | B4: 46113
A6: 1. Pesquisa de Satisfação
A7: SETOR | C7: Nº total de pacientes atendidos no grupo | E7: Nº de pesquisas realizadas no grupo
A8: Pacientes ou acompanhantes em atendimento no serviço de urgência e emergência | C8: 2535 | E8: 104
A9: Pacientes ou acompanhantes de pacientes internados | C9: 628 | E9: 116
A10: Pacientes ou acompanhantes de pacientes em atendimento ambulatorial ou SADT Externo | C10: 8106 | E10: 324
A11: Pacientes ou acompanhantes de pacientes após alta hospitalar | C11: 576 | E11: 71
A12: Total | C12: =SUM(C8:D11) -> 11845 | E12: =SUM(E8:F11) -> 615
A14: 2. Nível de Satisfação Geral do Hospital
A15: Setores | B15: Total de atendimentos | C15: Encantado | D15: Satisfeito | E15: Insatisfeito | F15: Decepcionado | G15: Quantitativo | H15: % de Participação | I15: SATISFATORIO | J15: INSATISFATÓRIO
A16: Atendimento de Urgência e Emergência | B16: =C8 -> 2535 | C16: 303 | D16: 663 | E16: 50 | F16: 34 | G16: =SUM(C16:F16) -> 1050 | H16: =(E8/C8)*100 -> 4.1025641 | I16: =(C16+D16)/G16 -> 0.92 | J16: =(E16+F16)/G16 -> 0.08
A17: Setores de Internação - Paciente Internados | B17: =C9 -> 628 | C17: 325 | D17: 685 | E17: 26 | F17: 8 | G17: =SUM(C17:F17) -> 1044 | H17: =(E9/C9)*100 -> 18.471338 | I17: =(C17+D17)/G17 -> 0.96743295 | J17: =(E17+F17)/G17 -> 0.03256705
A18: Atendimento Ambulatorial ou SADT Externo | B18: =C10 -> 8106 | C18: 1047 | D18: 1759 | E18: 73 | F18: 37 | G18: =SUM(C18:F18) -> 2916 | H18: =(E10/C10)*100 -> 3.9970392 | I18: =(C18+D18)/G18 -> 0.96227709 | J18: =(E18+F18)/G18 -> 0.037722908
A19: Pacientes - Após Alta Hospitalar | B19: =C11 -> 576 | C19: 134 | D19: 498 | E19: 5 | F19: 2 | G19: =SUM(C19:F19) -> 639 | H19: =(E11/C11)*100 -> 12.326389 | I19: =(C19+D19)/G19 -> 0.98904538 | J19: =(E19+F19)/G19 -> 0.010954617
A20: TOTAL - GERAL | B20: =SUM(B16+B18+B17+B19) -> 11845 | C20: =SUM(C16+C18+C17+C19) -> 1809 | D20: =SUM(D16+D18+D17+D19) -> 3605 | E20: =SUM(E16+E18+E17+E19) -> 154 | F20: =SUM(F16+F18+F17+F19) -> 81 | G20: =SUM(G16:G19) -> 5649 | H20: =SUM(H16:H19) -> 38.89733 | I20: =(C20+D20)/G20 -> 0.95839972 | J20: =(E20+F20)/G20 -> 0.041600283
A21: CG, PAG. 45, 2.6.5. A meta para o nível de satisfação geral do Hospital (encantado e satisfeito) deverá ser igual ou maior que 90% no trimestre. A EXECUTORA deverá encaminhar a pesquisa detalhada apresentando o nível de satisfação por área avaliada e o quantitativo de Ouvidoras mensais recebidas e estratificadas pelo tipo de manifestação.

Sheet Recursos Humanos
A1: Planilha - Indicadores de Recursos Humanos Mensais
A3: Hospital: | B3: =Capa!D5 -> HOSPITAL REGIONAL TEREZINHA GAIO BASSO
A4: Mês/Ano: | B4: 46113
A6: Nº de Funcionários | D6: Nº de Funcionários Administrativos | I6: Nº de Funcionários Técnicos
B7: Quantidade | D7: Especficação Cargo | I7: Especficação Cargo
A8: Nº Total Funcionários (Todos os Vínculos) | B8: =B19+B29+K26+F73+B52+B38 -> 539 | E8: Estatutários | F8: Celetista | G8: Cedido | J8: Estatutários | K8: Celetista | L8: Cedido
B9: =IF(B19+B29+B38+B48+B52+E73+F73+G73+J26+K26+L26=B8,"OK","REVER") -> OK | D9: Analista de Recursos Humanos | F9: 1 | I9: Assistente Social | K9: 2
D10: Analista Departamento Pessoal | F10: 1 | I10: Auxiliar Farmácia | K10: 16
A11: Rotatividade de Funcionários | D11: Analista Financeiro | F11: 1 | I11: Biólogo | K11: 0
B12: Quantidade | D12: Assessora de Imprensa | F12: 1 | I12: Farmacêutico | K12: 5
A13: N° Admissões | B13: 12 | D13: Assistente Administrativo | F13: 1 | I13: Farmacêutico Bioquímica | K13: 5
A14: N° Demissões | B14: 21 | D14: Assistente Administrativo- Contabilidade | F14: 0 | I14: Farmacêutico- Ocologia | K14: 3
A15: N° Total de Funcionários (CLT) | B15: =B22+B31+B40+F73+K26 -> 436 | D15: Assistente administrativo -Manutenção | F15: 1 | I15: Farmacêutica Clinica | K15: 1
D16: Assistente Administrativo-Agendamento | F16: 1 | I16: Fisioterapeuta | K16: 8
A17: Médicos | D17: Assistente Administrativo-Almoxarifado | F17: 1 | I17: Fonoaudióloga | K17: 1
B18: Quantidade | D18: Assistente Administrativo-Faturamento | F18: 3 | I18: Imagenologia (Técnico em Radiologia) | K18: 14
A19: N° Total de Médicos | B19: =SUM(B20:B23) -> 103 | D19: Assistente Administrativo-Recepção | F19: 1 | I19: Nutricionista | K19: 1
A20: PJ | B20: 103 | D20: Assistente de Compras | F20: 1 | I20: Nutricionista Clinica | K20: 1
A21: Estatutários | B21: 0 | D21: Assistente de Diretoria | F21: 0 | I21: Psicóloga Hospitalar | K21: 2
A22: Celetistas | B22: 0 | D22: Auxiliar Administrativo - NIR | F22: 4 | I22: Psicologo | K22: 0
A23: Cedidos | B23: 0 | D23: Auxiliar Administrativo- FIN-FARM-IMAG. | F23: 1 | I23: CASO TENHA OUTROS INCLUIR ABAIXO:
D24: Auxiliar de Cozinha | F24: 8 | I24: BIOMÉDICO | K24: 4
D25: Auxiliar de Lavanderia | F25: 10
D26: Auxiliar de Limpeza | F26: 26 | I26: TOTAL | J26: =SUM(J9:J25) -> 0 | K26: =SUM(K9:K25) -> 63 | L26: =SUM(L9:L25) -> 0
A27: Nº de Enfermeiros | D27: Auxiliar de Limpeza-Jardinagem | F27: 1
B28: Quantidade | D28: Auxiliar de manutenção | F28: 1
A29: N° Total Enfermeiros | B29: =SUM(B30:B32) -> 43 | D29: Camareira | F29: 1
A30: Estatutários | B30: 0 | D30: Comprador | F30: 1
A31: Celetistas | B31: 43 | D31: Coordenador SCIH | F31: 0
A32: Cedidos | B32: 0 | D32: Copeira Hospitalar | F32: 8
D33: Costureira | F33: 1
D34: Cozinheira Hospitalar | F34: 5
D35: Diretor Adjunto | F35: 1
A36: Nº de Profissionais Técnico de Enfermagem | D36: Diretor Apoio | F36: 0
B37: Quantidade | D37: Diretor Assistencial | F37: 0
A38: Nº Total Técnicos de Enfermagem | B38: =SUM(B39:B41) -> 186 | D38: Diretor Geral | F38: 1
A39: Estatutários | B39: 0 | D39: Eletromecânico | F39: 2
A40: Celetistas | B40: 186 | D40: Engenheiro Civil | F40: 1
A41: Cedidos | B41: 0 | D41: Gerente de Recursos Humanos | F41: 1
D42: Gerente de Serviços Ambulatoriais | F42: 1
...

Sheet Fármacia
A1: Planilha - Indicadores de Farmácia Mensais
A2: Recurso financeiro na aquisição de medicamentos | D2: Aquisição de medicamentos da Curva A
B3: Valor R$ | D3: Medicamento/Apresentação | E3: Nome Comercial | F3: Laboratório Fabricante | G3: Custo Unitário
A4: Recurso financeiro gasto com medicamentos não padronizados | B4: 1319.8 | C4: 22776 | D4: ABIRATERONA 250MG COMP | E4: GENÉRICO | F4: SUN FARMACEUTICA DO BRASIL LTDA | G4: 5.6
A5: Recurso financeiro gasto com medicamentos de rotina: | B5: 476592.14 | C5: 4747 | D5: ALBUMINA HUMANA 20% 50ML | E5: - | F5: - | G5: -
C6: 25285 | D6: ALFAPORACTANTO 80MG/ML-3ML | E6: CUROSURF | F6: CHIESI FARMACEUTICA LTDA | G6: 1950
A7: Quantidade de medicamentos adquiridos (princípio ativo - PA) | C7: 12434 | D7: ALTEplase 50MG 1 F/A+DIL. 50ML | E7: ACTILYSE | F7: BOEHRINGER INGELHEIM DO BRASIL QUIMICA E FARMACEUTICA LTDA. - FILIAL 2 | G7: 2495
B8: Nº medicamentos (PA) | C8: 14365 | D8: AMPICILINA 2G + SULBACTAM 1G AMP. ( IV / IM ) | E8: GENÉRICO | F8: FRESENIUS KABI BRASIL LTDA. | G8: 10.2
A9: Medicamentos adquiridos não padronizados | B9: 5 | C9: 19749 | D9: BACILO DE CALMETTE-GUÉRIN(Imuno BCG) - 40MG | E9: URO HIPE | F9: UNO HEALTHCARE COMERCIO DE MEDICAMENTOS LTDA. | G9: 378.5
A10: Medicamentos adquiridos padronizados | B10: 202 | C10: 19386 | D10: BLEOMICINA 15UI - EV | E10: - | F10: - | G10: -
C11: 19378 | D11: CAPECITABINA 500mg - VO | E11: GENÉRICO | F11: SUN FARMACEUTICA DO BRASIL LTDA | G11: 1.47
A12: Medicamentos (unidade) com prazo de validade vencido | C12: 19382 | D12: CARBOplatina 450MG/45ML - EV | E12: - | F12: - | G12: -
A13: Considerar a somatória dos quantitativos de todos os medicamentos | C13: 19380 | D13: CARBOplatina 150 MG/15Ml - EV | E13: - | F13: - | G13: -
B14: Nº medicamentos (UN) | C14: 4053 | D14: CeFAZolina 1G ( IV / IM ) AMP | E14: GENÉRICO | F14: FRESENIUS KABI BRASIL LTDA. | G14: 3.65
A15: Medicamentos vencidos | B15: 285 | C15: 23889 | D15: CETOPROFENO 100MG/100ML (PRONTO USO) | E15: AXIFLENNID | F15: HALEXISTAR INDUSTRIA FARMACEUTICA LTDA | G15: 6.4
A16: Medicamentos em estoque total | B16: 532323.48 | C16: 23469 | D16: CONTRASTE IODADO NÃO-IÔNICO DE BAIXA OSMOLARIDADE EQUIVALENTE A 300mg/mL DE IODO - Frasco 100mL | E16: OMNIPAQUE | F16: GE HEALTHCARE DO BRASIL COMERCIO E SERVICOS PARA EQUIPAMENTOS MEDICO-HOSPITALARES LTDA | G16: 149
C17: 25015 | D17: CREME BARREIRA 80G - PROTETOR DA PELE | E17: CUTIMED PROTECT | F17: HELIANTO FARMACEUTICA LTDA | G17: 41.4
C18: 18195 | D18: DIETA ENTERAL ESPECIALIZADA COM ALTO TEOR CALÓRICO E PROTEICO 2KCAL/ML + 0,1G DE PROTEINA/ML - 500ML | E18: FRESUBIN 2.0 | F18: FRESENIUS KABI BRASIL LTDA. | G18: 75.59
C19: 20730 | D19: DIETA ENTERAL ESPECIALIZADA OLIGOMERICA 1.3KCAL + 0,067G DE PROTEINA/ML - 500ML | E19: - | F19: - | G19: -
C20: 20553 | D20: DIETA ENTERAL ESPECIALIZADA PARA DM - HIPERCALORICA E HIPERPROTEICA 1.5 KCAL/ML + 0,075G DE PROTEINA/ML - 1000ML | E20: DIBEM 1,5KCAL HP | F20: FRESENIUS KABI BRASIL LTDA. | G20: 70.2
C21: 7694 | D21: DIETA ENTERAL PADRÃO HIPERCALORICA E HIPERPROTEICA 1.5 KCAL/ML + 0,075G DE PROTEINA/ML - 1000ML | E21: HP ENERGY | F21: FRESENIUS KABI BRASIL LTDA. | G21: 64.17
C22: 4375 | D22: DIPIRONA 500MG/ML AMP. 2ML ( IV / IM ) | E22: GENÉRICO | F22: SANTISA LABORATORIO FARMACEUTICO S.A | G22: 0.46
C23: 4742 | D23: ENOXAparina 40MG/0,4ML SER. ( IV / SC ) | E23: VOLARE | F23: ACHE LABORATORIOS FARMACEUTICOS SA | G23: 6.25
C24: 6804 | D24: FentaNILA 0,05MG/ML AMP. 10ML ( IV / IM ) | E24: UNIFENTAL | F24: HIPOLABOR FARMACEUTICA LTDA | G24: 2.8
C25: 19791 | D25: FILGRASTIM 300MCG/0,5ml - SC SERINGA (PRONTO PRA USO) | E25: FIPRIMA | F25: EUROFARMA LABORATORIOS S.A. - FILIAL 16 | G25: 38.9
C26: 19399 | D26: FLUORURACILA 2500MG/50ML – EV | E26: FAULDFLUOR | F26: LIBBS FARMACEUTICA LTDA | G26: 91.26
C27: 19402 | D27: GENCITABINA 1000MG – EV | E27: GCIB | F27: CRISTALIA PRODUTOS QUIMICOS FARMACEUTICOS LTDA | G27: 69.9
C28: 4744 | D28: HEPArina 5.000UI/0,25ML AMP. 0,25ML ( SC ) | E28: PARINEX | F28: HIPOLABOR FARMACEUTICA LTDA | G28: 5.55
C29: 19407 | D29: IRINOTECANO 100MG/5ML - EV | E29: GENÉRICO | F29: EUROFARMA LABORATORIOS S.A. - FILIAL 16 | G29: 38
C30: 19385 | D30: LEUCOVORIN (FOLINATO DE CÁLCIO) 300MG/30ML | E30: - | F30: - | G30: -
C31: 22317 | D31: LEUPRORRELINA 22,5MG SC - SERINGA C/ PÓ LIÓFILO E SERINGA C/ DILUENTE | E31: ELIGARD | F31: ADIUM S.A. | G31: 510.83
C32: 16211 | D32: MEROPENEM 1G AMP. ( IV ) | E32: GENÉRICO | F32: INSTITUTO BIOCHIMICO INDUSTRIA FARMACEUTICA LTDA | G32: 12.204
C33: 4317 | D33: METILprednisolona 125MG AMP. ( IV / IM ) | E33: GENÉRICO | F33: BLAU FARMACEUTICA S.A. | G33: 8.99
C34: 4090 | D34: MIDAzolam 5MG/ML AMP. 10ML ( IV / IM / RETAL ) | E34: GENÉRICO | F34: HIPOLABOR FARMACEUTICA LTDA | G34: 2.93
C35: 9706 | D35: OCTREOTIDA 0,1MG/ML | E35: OCTRIDE 100 | F35: SUN FARMACEUTICA DO BRASIL LTDA | G35: 68
C36: 23887 | D36: OMEPRAZOL 40MG FR. ( IV ) | E36: GENÉRICO | F36: BLAU FARMACEUTICA S.A. | G36: 6.05
C37: 19446 | D37: OXALiplatina 100MG/20ML - EV | E37: GENÉRICO | F37: BLAU FARMACEUTICA S.A. | G37: 64.84
C38: 19416 | D38: PACLITAXEL 300MG/50ML - EV | E38: EVOTAXEL | F38: FARMARIN INDUSTRIA E COMERCIO LTDA | G38: 83.58
C39: 6512 | D39: PIPERACILINA 4G + TAZOBACTAM 0,5G AMP. ( IV ) | E39: GENÉRICO | F39: VIATRIS BRASIL IMPORTADORA E DISTRIBUIDORA DE MEDICAMENTOS LTDA | G39: 11.2
C40: 15865 | D40: POLIMIXINA B SULFATO 500.000 UI (EV / IM) | E40: GENÉRICO | F40: BLAU FARMACEUTICA S.A. | G40: 12.39
...

Sheet Materiais
A1: Planilha - Indicadores de Materiais
A3: Hospital:
A4: Mês/Ano: | B4: 46113
A6: Aquisição de materiais Técnico Hospitalares | D6: Preços de Aquisição de materiais hospitalares
B7: Valor R$ | D7: Material/Apresentação | E7: Lab. Fabricante | F7: Custo Unitário
A8: Recurso financeiro gasto com materiais não padronizados | B8: 38 | C8: 19441 | D8: AGULHA HUBER C/ DISPOSITIVO DE SEGURANÇA E LINHA DE INFUSAO 20Gx15mm P/ PUNÇÃO DE CATETER TOTALMENTE IMPLANTAVEL | E8: LABORATORIOS B BRAUN SA | F8: 43.2
A9: Recurso financeiro gasto com materiais de rotina: | B9: 214466.54 | C9: 19442 | D9: AGULHA HUBER C/ DISPOSITIVO DE SEGURANÇA E LINHA DE INFUSAO 20Gx20mm P/ PUNÇÃO DE CATETER TOTALMENTE IMPLANTAVEL | E9: HTS - TECNOLOGIA EM SAUDE COMERCIO IMPORTACAO E EXPORTACAO LTDA | F9: 17
C10: 9528 | D10: AGULHA PARA ANESTESIA DE PLEXO REVESTIDA DE TEFLON | E10: LABORATORIOS B BRAUN SA | F10: 93.72
A11: Materiais Técnico Hospitalares (unidade) com prazo de validade vencido | C11: 16424 | D11: AVENTAL DESCARTAVEL MANGA LONGA 35G - PCT C/ 10 UNIDADES | E11: ALTERMED MATERIAL MEDICO HOSPITALAR LTDA | F11: 21.53
A12: Considerar a somatória dos quantitativos de todos os materiais | C12: 19443 | D12: BOMBA DE INFUSÃO ELASTOMERICA PORTATIL P/ TERAPIA DE INFUSÃO A CURTO E LONGO PRAZO CAPACIDADE P/ 270ML-5mL/hora- DESCARTÁVEL C/ POCHETE | E12: SAMTRONIC INDUSTRIA E COMERCIO LTDA | F12: 115
B13: Nº materiais (UN) | C13: 16428 | D13: CAMPO OPERATORIO ESTRELA 45X50 35G C/ FIO RADIOPACO - PCT C/50UN - NÃO ESTÉRIL | E13: CREMER | F13: 152.49
A14: Materiais vencidos | B14: 126 | C14: 10759 | D14: CANETA MONOPOLAR P/ ELETROCAUTÉRIO CONTROLE MANUAL - DESCARTÁVEL | E14: - | F14: -
A15: Materiais em estoque total | B15: 235693.77 | C15: 16892 | D15: CAPILAR - DIALISADOR P/ HEMODIALISE DE BAIXO FLUXO - SUPERFICIE EFETIVA (m²) 1.8 - HPS F8 | E15: -
C16: 5028 | D16: CATETER INTRAV. PERIF. Nº 20 C/ DISP. DE SEGURANÇA | E16: QR CONSULTING, IMPORTACAO E DISTRIBUICAO DE PRODUTOS MEDICOS LTDA | F16: 2.21
A17: Mat. Hosp. adquiridos que não pertencem à padronização do hospital | C17: 5030 | D17: CATETER INTRAV. PERIF. Nº 22 C/ DISP. DE SEGURANÇA | E17: QR CONSULTING, IMPORTACAO E DISTRIBUICAO DE PRODUTOS MEDICOS LTDA | F17: 2.21
A18: Considerar a somatória dos quantitativos de todos os materiais | C18: 20757 | D18: CATETER TOTALMENTE IMPLANTÁVEL DE 8.5 FR X 80CM PARA INFUSÃO DE QUIMIOTERÁPICOS | E18: - | F18: -
B19: Nº materiais | C19: 4966 | D19: ELETRODO DESC. ADULTO | E19: CARDINAL HEALTH DO BRASIL LTDA | F19: 0.38
A20: Materiais adquiridos não padronizados | B20: 1 | C20: 21999 | D20: Equipo Bomba de Dieta Santronic - EQUIPO PARA BOMBA DE INFUSÃO SAMTRONIC ENTERAL S/FILTRO EI 0623 T000 | E20: SAMTRONIC INDUSTRIA E COMERCIO LTDA | F20: 17.6
A21: Materiais adquiridos padronizados total | B21: 186 | C21: 21998 | D21: Equipo Bomba Fotossensível Santronic - EQUIPO PARA BOMBA DE INFUSÃO SAMTRONIC S/FILTRO FOTO EI 0422 0000 | E21: SAMTRONIC INDUSTRIA E COMERCIO LTDA | F21: 22
C22: 21997 | D22: Equipo Bomba Normal Santronic - EQUIPO PARA BOMBA DE INFUSÃO SAMTRONIC S/FILTRO EI 0421 0000 | E22: SAMTRONIC INDUSTRIA E COMERCIO LTDA | F22: 21
C23: 5170 | D23: EQUIPO MACRO C/ENTRADA DE AR E INJ. LATERAL | E23: MEDIX | F23: 0.59
C24: 23473 | D24: EXTENSOR PACIENTE COM ANTIRREFLUXO UMA VIA | E24: 1000MEDIC | F24: 11.09
C25: 4810 | D25: F.MONONYLON 3.0 C/A P1663T | E25: JOHNSON | F25: 12.88
C26: 4796 | D26: F.VICRYL 1 C/A J535H | E26: - | F26: -
C27: 4975 | D27: FITA MICROPORE 5,0CMX10MT | E27: CREMER | F27: 4.7
C28: 14543 | D28: FRALDA GERIATRICA TAMANHO EG | E28: - | F28: -
C29: 4865 | D29: GAZE 10X10 13FIOS C/10UNID ESTERIL | E29: CREMER | F29: 2.02
C30: 4867 | D30: GAZE 7,5X7,5 11FIOS C/10UNID. ESTERIL | E30: CREMER | F30: 0.97
C31: 23471 | D31: KIT SERINGA ANGIOGRÁFICA COM 2 SERINGAS DE 200ml + 2 “J” + 1 tubo (duas vias) PARA BOMBA INJETORA SINO POWER D | E31: 1000MEDIC | F31: 129
C32: 15805 | D32: LUVA PROCED. MÉDIA NITRÍLICA SEM PÓ | E32: MEDIX | F32: 12.7
C33: 11304 | D33: LUVA PROCED. PEQUENA NITRÍLICA SEM PÓ | E33: MEDIX | F33: 19.7
C34: 4905 | D34: LUVA PROCEDIMENTO PEQUENA COM PÓ - CX/100UNID | E34: MEDIX | F34: 16.99
C35: 4878 | D35: SERINGA DESCARTAVEL 10 ML S/ AGULHA - SLIP S/DISPOSITIVO – C/ GRADUAÇÃO POR ML | E35: DESCARPACK | F35: 0.25
C36: 4880 | D36: SERINGA DESCARTAVEL 20 ML S/ AGULHA - SLIP S/DISPOSITIVO | E36: INJEX | F36: 0.35
C37: 4883 | D37: SERINGA DESCARTAVEL 60 ML S/ AGULHA - BICO LUER LOCK - S/DISPOSITIVO | E37: BD | F37: 9.6
C38: 5195 | D38: TIRAS P/ HGT | E38: MEDLEVENSOHN COMERCIO E REPRESENTACOES DE PRODUTOS HOSPITALARES LTDA | F38: 0.48

Sheet Financeiro
A1: Planilha - Financeira Mensal
A3: UNIDADE
A4: =Assistencial!B3 -> HOSPITAL REGIONAL TEREZINHA GAIO BASSO
A6: Mês/Ano:
A7: =Assistencial!B4 -> 46113
A9: DESCRIÇÃO | B9: =A7 -> 46113
A10: RECEITAS OPERACIONAIS | B10: R$
A11: Repasse Contrato de Gestão (Valor de custeio bruto) | B11: 5561424
A12: Repasse Contrato de Gestão - Retenção de Investimento (caso ocorra) | B12: 0
A13: Repasse Programas Especiais | B13: 0
A14: Desconto (Meta Não Atingida) | B14: 0
A15: Glosa de Recurso (Desconto) | B15: 101647.81
A16: TOTAL REPASSES (Receita Líquida recebida da SES) | B16: =B11+B12+B13-B14-B15 -> 5459776.2
A17: Resultado de Aplicação Financeira | B17: 166227.58
A18: Reembolso de Despesas | B18: 0
A19: Obtenção de Recursos Externos a SES | B19: 0
A20: Demais Receitas (Convênios) | B20: 0
A21: Receitas Extras | B21: =111781.54+27534+19877.16+3000+100849.81 -> 263042.51
A22: Outras Receitas | B22: 3.44
A23: TOTAL OUTRAS RECEITAS | B23: =SUM(B17:B22) -> 429273.53
A24: TOTAL DE RECEITAS OPERACIONAIS | B24: =B23+B16 -> 5889049.7
A26: =A9 -> DESCRIÇÃO | B26: =B9 -> 46113
A27: DESPESAS OPERACIONAIS | B27: R$
A28: 1. Pessoal | B28: =SUM(B30:B39) -> 2364549.3
A29: 1.1. Ordenados (Não inclui férias, 13º e Rescisão) | B29: =SUM(B30:B31) -> 1810828
A30: 1.1.1. Assistencial | B30: =1821389.37-21074.28+10512.95 -> 1810828
A31: 1.1.2. Administrativo | B31: 0
A32: 1.2. INSS do Empregador | B32: 0
A33: 1.3. FGTS | B33: =215068.49-20969.62 -> 194098.87
A34: 1.4. PIS | B34: 0
A35: 1.5. Benefícios | B35: 0
A36: 1.6. Provisões (Férias) - Retenções | B36: =215902.63-11853.79 -> 204048.84
A37: 1.7. Provisões (13º sal) - Retenções | B37: 143496.78
A38: 1.8. Provisões (Rescisões) - Retenções | B38: =14113.21-2036.47 -> 12076.74
A39: 1.9. Despesas Judiciais Trabalhistas | B39: 0
A40: 2. Insumos Assistenciais | B40: =SUM(B41:B45) -> 937687.57
A41: 2.1. Materiais Descartáveis | B41: =1200.88+60223.55+225017.83-2736.01+21895.12 -> 305601.37
A42: 2.2. Medicamentos | B42: =309645.77-7.52+222685.46-22551.5 -> 509772.21
A43: 2.3. Dietas Industrializadas | B43: 22551.5
A44: 2.4. Gases Medicinais | B44: 25269.35
...
